BEGIN:VCALENDAR
VERSION:2.0
PRODID:-//Western Livestock Journal - ECPv6.15.20//NONSGML v1.0//EN
CALSCALE:GREGORIAN
METHOD:PUBLISH
X-WR-CALNAME:Western Livestock Journal
X-ORIGINAL-URL:https://www.wlj.net
X-WR-CALDESC:Events for Western Livestock Journal
REFRESH-INTERVAL;VALUE=DURATION:PT1H
X-Robots-Tag:noindex
X-PUBLISHED-TTL:PT1H
BEGIN:VTIMEZONE
TZID:America/Los_Angeles
BEGIN:DAYLIGHT
TZOFFSETFROM:-0800
TZOFFSETTO:-0700
TZNAME:PDT
DTSTART:20250309T100000
END:DAYLIGHT
BEGIN:STANDARD
TZOFFSETFROM:-0700
TZOFFSETTO:-0800
TZNAME:PST
DTSTART:20251102T090000
END:STANDARD
BEGIN:DAYLIGHT
TZOFFSETFROM:-0800
TZOFFSETTO:-0700
TZNAME:PDT
DTSTART:20260308T100000
END:DAYLIGHT
BEGIN:STANDARD
TZOFFSETFROM:-0700
TZOFFSETTO:-0800
TZNAME:PST
DTSTART:20261101T090000
END:STANDARD
BEGIN:DAYLIGHT
TZOFFSETFROM:-0800
TZOFFSETTO:-0700
TZNAME:PDT
DTSTART:20270314T100000
END:DAYLIGHT
BEGIN:STANDARD
TZOFFSETFROM:-0700
TZOFFSETTO:-0800
TZNAME:PST
DTSTART:20271107T090000
END:STANDARD
END:VTIMEZONE
BEGIN:VTIMEZONE
TZID:America/Denver
BEGIN:DAYLIGHT
TZOFFSETFROM:-0700
TZOFFSETTO:-0600
TZNAME:MDT
DTSTART:20250309T090000
END:DAYLIGHT
BEGIN:STANDARD
TZOFFSETFROM:-0600
TZOFFSETTO:-0700
TZNAME:MST
DTSTART:20251102T080000
END:STANDARD
BEGIN:DAYLIGHT
TZOFFSETFROM:-0700
TZOFFSETTO:-0600
TZNAME:MDT
DTSTART:20260308T090000
END:DAYLIGHT
BEGIN:STANDARD
TZOFFSETFROM:-0600
TZOFFSETTO:-0700
TZNAME:MST
DTSTART:20261101T080000
END:STANDARD
BEGIN:DAYLIGHT
TZOFFSETFROM:-0700
TZOFFSETTO:-0600
TZNAME:MDT
DTSTART:20270314T090000
END:DAYLIGHT
BEGIN:STANDARD
TZOFFSETFROM:-0600
TZOFFSETTO:-0700
TZNAME:MST
DTSTART:20271107T080000
END:STANDARD
END:VTIMEZONE
BEGIN:VEVENT
DTSTART;TZID=America/Los_Angeles:20260501T080000
DTEND;TZID=America/Los_Angeles:20260501T170000
DTSTAMP:20260424T090359
CREATED:20251125T232006Z
LAST-MODIFIED:20260324T161852Z
UID:10000641-1777622400-1777654800@www.wlj.net
SUMMARY:Western Video Market Auction
DESCRIPTION:
URL:https://www.wlj.net/event/western-video-market-auction-6/
LOCATION:Paso Robles\, CA\, Paso Robles\, CA\, 93446\, United States
CATEGORIES:Commercial,Sales
GEO:35.6368759;-120.6545022
END:VEVENT
BEGIN:VEVENT
DTSTART;TZID=America/Denver:20260502T110000
DTEND;TZID=America/Denver:20260502T160000
DTSTAMP:20260424T090359
CREATED:20251210T154108Z
LAST-MODIFIED:20251210T154108Z
UID:10000749-1777719600-1777737600@www.wlj.net
SUMMARY:Leachman Cattle Grasstime Bull & Female Sale
DESCRIPTION:
URL:https://www.wlj.net/event/leachman-cattle-grasstime-bull-female-sale/
LOCATION:Meriden\, WY\, Meriden\, WY\, United States
CATEGORIES:Stabilizer
GEO:41.5435872;-104.3191257
END:VEVENT
BEGIN:VEVENT
DTSTART;TZID=America/Los_Angeles:20260502T150000
DTEND;TZID=America/Los_Angeles:20260502T170000
DTSTAMP:20260424T090359
CREATED:20251125T231215Z
LAST-MODIFIED:20251125T231215Z
UID:10000635-1777734000-1777741200@www.wlj.net
SUMMARY:Cattle Barons Horse Sale
DESCRIPTION:
URL:https://www.wlj.net/event/cattle-barons-horse-sale/
LOCATION:Pendleton\, OR\, Pendleton\, OR\, United States
CATEGORIES:Breeds,Horse,Horse Sales,Sales
END:VEVENT
BEGIN:VEVENT
DTSTART;TZID=America/Denver:20260507T130000
DTEND;TZID=America/Denver:20260507T170000
DTSTAMP:20260424T090359
CREATED:20251208T204205Z
LAST-MODIFIED:20251208T204205Z
UID:10000733-1778158800-1778173200@www.wlj.net
SUMMARY:Koenig Ranch Red Angus Bull Sale
DESCRIPTION:
URL:https://www.wlj.net/event/koenig-ranch-red-angus-bull-sale/
LOCATION:Glasgow Stockyards\, Fort Peck Hwy E\, Glasgow\, MT\, United States
CATEGORIES:Red Angus
GEO:48.0088889;-106.448611
X-APPLE-STRUCTURED-LOCATION;VALUE=URI;X-ADDRESS=Glasgow Stockyards Fort Peck Hwy E Glasgow MT United States;X-APPLE-RADIUS=500;X-TITLE=Fort Peck Hwy E:geo:-106.448611,48.0088889
END:VEVENT
BEGIN:VEVENT
DTSTART;TZID=America/Denver:20260509T130000
DTEND;TZID=America/Denver:20260509T160000
DTSTAMP:20260424T090359
CREATED:20251210T152949Z
LAST-MODIFIED:20251210T152949Z
UID:10000747-1778331600-1778342400@www.wlj.net
SUMMARY:Queen Ann Cattle Company Bull Sale
DESCRIPTION:
URL:https://www.wlj.net/event/queen-ann-cattle-company-bull-sale/
LOCATION:Loma\, CO\, Loma\, CO\, United States
CATEGORIES:Angus
GEO:39.1958139;-108.813158
END:VEVENT
BEGIN:VEVENT
DTSTART;TZID=America/Denver:20260516T080000
DTEND;TZID=America/Denver:20260516T170000
DTSTAMP:20260424T090359
CREATED:20260323T190400Z
LAST-MODIFIED:20260323T190400Z
UID:10000775-1778918400-1778950800@www.wlj.net
SUMMARY:Feather River College Horse Sale
DESCRIPTION:
URL:https://www.wlj.net/event/feather-river-college-horse-sale-2/
LOCATION:Quincy\, CA\, Quincy\, CA\, 95971\, United States
CATEGORIES:Breeds,Horse,Horse Sales,Sales
END:VEVENT
BEGIN:VEVENT
DTSTART;TZID=America/Denver:20260516T130000
DTEND;TZID=America/Denver:20260516T170000
DTSTAMP:20260424T090359
CREATED:20260417T191720Z
LAST-MODIFIED:20260417T191720Z
UID:10000793-1778936400-1778950800@www.wlj.net
SUMMARY:Top Gun Horse Sale
DESCRIPTION:
URL:https://www.wlj.net/event/top-gun-horse-sale/
LOCATION:Twin Falls\, ID\, Twin Falls\, ID\, United States
CATEGORIES:Horse,Horse Sales,Sales
END:VEVENT
BEGIN:VEVENT
DTSTART;TZID=America/Los_Angeles:20260520T080000
DTEND;TZID=America/Los_Angeles:20260520T170000
DTSTAMP:20260424T090359
CREATED:20260323T184235Z
LAST-MODIFIED:20260323T184235Z
UID:10000771-1779264000-1779296400@www.wlj.net
SUMMARY:Western Video Market Sale
DESCRIPTION:
URL:https://www.wlj.net/event/western-video-market-sale/
LOCATION:Galt\, CA\, Galt\, CA\, 95632\, United States
CATEGORIES:Breeds,Commercial,Sales
END:VEVENT
BEGIN:VEVENT
DTSTART;TZID=America/Los_Angeles:20260520T080000
DTEND;TZID=America/Los_Angeles:20260520T170000
DTSTAMP:20260424T090359
CREATED:20260417T193630Z
LAST-MODIFIED:20260417T193630Z
UID:10000799-1779264000-1779296400@www.wlj.net
SUMMARY:CLM Pair & Bred Cow Special
DESCRIPTION:
URL:https://www.wlj.net/event/clm-pair-bred-cow-special/
LOCATION:Cattlemen’s Livestock Market\, 12495 Stockton Blvd\, Galt\, CA\, 95632\, United States
CATEGORIES:Breeds,Commercial,Female Sales,Sales
GEO:38.3041589;-121.3170785
X-APPLE-STRUCTURED-LOCATION;VALUE=URI;X-ADDRESS=Cattlemen’s Livestock Market 12495 Stockton Blvd Galt CA 95632 United States;X-APPLE-RADIUS=500;X-TITLE=12495 Stockton Blvd:geo:-121.3170785,38.3041589
END:VEVENT
BEGIN:VEVENT
DTSTART;VALUE=DATE:20260521
DTEND;VALUE=DATE:20260523
DTSTAMP:20260424T090359
CREATED:20260306T141225Z
LAST-MODIFIED:20260306T141225Z
UID:10000763-1779321600-1779494399@www.wlj.net
SUMMARY:Stockmanship & Stewardship event
DESCRIPTION:The Stockmanship & Stewardship event in Farmington\, NM\, will help ranchers gain practical\, hands-on knowledge that strengthens animal care\, enhances cattle handling skills and supports the sustainability of their operations.
URL:https://www.wlj.net/event/stockmanship-stewardship-event/
LOCATION:CA
CATEGORIES:Coming Events
END:VEVENT
BEGIN:VEVENT
DTSTART;TZID=America/Denver:20260523T120000
DTEND;TZID=America/Denver:20260523T170000
DTSTAMP:20260424T090359
CREATED:20260417T192100Z
LAST-MODIFIED:20260417T192100Z
UID:10000795-1779537600-1779555600@www.wlj.net
SUMMARY:Bar R Wagyu Production Sale
DESCRIPTION:
URL:https://www.wlj.net/event/bar-r-wagyu-production-sale/
LOCATION:Pullman\, WA\, Pullman\, WA\, 99163\, United States
CATEGORIES:Breeds,Bull Sales,Female Sales,Sales,Wagyu
GEO:46.7297771;-117.1817377
END:VEVENT
BEGIN:VEVENT
DTSTART;VALUE=DATE:20260527
DTEND;VALUE=DATE:20260530
DTSTAMP:20260424T090359
CREATED:20260313T131609Z
LAST-MODIFIED:20260313T131609Z
UID:10000768-1779840000-1780099199@www.wlj.net
SUMMARY:Montana Stockgrowers Association MidYear Meeting
DESCRIPTION:Registration is open for the 142nd Montana Stockgrowers Association MidYear Meeting in Great Falls\, MT\, at the Great Falls Civic Center. Details: mtbeef.org/event/midyear-meeting.
URL:https://www.wlj.net/event/montana-stockgrowers-association-midyear-meeting/
LOCATION:CA
CATEGORIES:Coming Events
END:VEVENT
END:VCALENDAR