BEGIN:VCALENDAR
VERSION:2.0
PRODID:-//Western Livestock Journal - ECPv6.15.20//NONSGML v1.0//EN
CALSCALE:GREGORIAN
METHOD:PUBLISH
X-ORIGINAL-URL:https://www.wlj.net
X-WR-CALDESC:Events for Western Livestock Journal
REFRESH-INTERVAL;VALUE=DURATION:PT1H
X-Robots-Tag:noindex
X-PUBLISHED-TTL:PT1H
BEGIN:VTIMEZONE
TZID:America/Denver
BEGIN:DAYLIGHT
TZOFFSETFROM:-0700
TZOFFSETTO:-0600
TZNAME:MDT
DTSTART:20230312T090000
END:DAYLIGHT
BEGIN:STANDARD
TZOFFSETFROM:-0600
TZOFFSETTO:-0700
TZNAME:MST
DTSTART:20231105T080000
END:STANDARD
BEGIN:DAYLIGHT
TZOFFSETFROM:-0700
TZOFFSETTO:-0600
TZNAME:MDT
DTSTART:20240310T090000
END:DAYLIGHT
BEGIN:STANDARD
TZOFFSETFROM:-0600
TZOFFSETTO:-0700
TZNAME:MST
DTSTART:20241103T080000
END:STANDARD
BEGIN:DAYLIGHT
TZOFFSETFROM:-0700
TZOFFSETTO:-0600
TZNAME:MDT
DTSTART:20250309T090000
END:DAYLIGHT
BEGIN:STANDARD
TZOFFSETFROM:-0600
TZOFFSETTO:-0700
TZNAME:MST
DTSTART:20251102T080000
END:STANDARD
END:VTIMEZONE
BEGIN:VTIMEZONE
TZID:America/Detroit
BEGIN:DAYLIGHT
TZOFFSETFROM:-0500
TZOFFSETTO:-0400
TZNAME:EDT
DTSTART:20230312T070000
END:DAYLIGHT
BEGIN:STANDARD
TZOFFSETFROM:-0400
TZOFFSETTO:-0500
TZNAME:EST
DTSTART:20231105T060000
END:STANDARD
BEGIN:DAYLIGHT
TZOFFSETFROM:-0500
TZOFFSETTO:-0400
TZNAME:EDT
DTSTART:20240310T070000
END:DAYLIGHT
BEGIN:STANDARD
TZOFFSETFROM:-0400
TZOFFSETTO:-0500
TZNAME:EST
DTSTART:20241103T060000
END:STANDARD
BEGIN:DAYLIGHT
TZOFFSETFROM:-0500
TZOFFSETTO:-0400
TZNAME:EDT
DTSTART:20250309T070000
END:DAYLIGHT
BEGIN:STANDARD
TZOFFSETFROM:-0400
TZOFFSETTO:-0500
TZNAME:EST
DTSTART:20251102T060000
END:STANDARD
END:VTIMEZONE
BEGIN:VTIMEZONE
TZID:America/Los_Angeles
BEGIN:DAYLIGHT
TZOFFSETFROM:-0800
TZOFFSETTO:-0700
TZNAME:PDT
DTSTART:20230312T100000
END:DAYLIGHT
BEGIN:STANDARD
TZOFFSETFROM:-0700
TZOFFSETTO:-0800
TZNAME:PST
DTSTART:20231105T090000
END:STANDARD
BEGIN:DAYLIGHT
TZOFFSETFROM:-0800
TZOFFSETTO:-0700
TZNAME:PDT
DTSTART:20240310T100000
END:DAYLIGHT
BEGIN:STANDARD
TZOFFSETFROM:-0700
TZOFFSETTO:-0800
TZNAME:PST
DTSTART:20241103T090000
END:STANDARD
BEGIN:DAYLIGHT
TZOFFSETFROM:-0800
TZOFFSETTO:-0700
TZNAME:PDT
DTSTART:20250309T100000
END:DAYLIGHT
BEGIN:STANDARD
TZOFFSETFROM:-0700
TZOFFSETTO:-0800
TZNAME:PST
DTSTART:20251102T090000
END:STANDARD
END:VTIMEZONE
BEGIN:VTIMEZONE
TZID:UTC
BEGIN:STANDARD
TZOFFSETFROM:+0000
TZOFFSETTO:+0000
TZNAME:UTC
DTSTART:20230101T000000
END:STANDARD
END:VTIMEZONE
BEGIN:VEVENT
DTSTART;VALUE=DATE:20241113
DTEND;VALUE=DATE:20241114
DTSTAMP:20260422T044844
CREATED:20241017T185336Z
LAST-MODIFIED:20241107T220445Z
UID:10000110-1731456000-1731542399@www.wlj.net
SUMMARY:Riverbend Ranch Bull Sale
DESCRIPTION:
URL:https://www.wlj.net/event/riverbend-ranch-bull-sale/
LOCATION:Idaho Falls\, ID\, Idaho Falls\, ID\, 83402\, United States
CATEGORIES:Bull Sales,Sales
GEO:43.4926602;-112.0407506
END:VEVENT
BEGIN:VEVENT
DTSTART;TZID=America/Denver:20241113T100000
DTEND;TZID=America/Denver:20241113T170000
DTSTAMP:20260422T044844
CREATED:20241114T033718Z
LAST-MODIFIED:20241114T033718Z
UID:10000148-1731492000-1731517200@www.wlj.net
SUMMARY:Lewistown Livestock Auction - Stock Cow Central Cow & Heifer Sale
DESCRIPTION:
URL:https://www.wlj.net/event/lewistown-livestock-auction-stock-cow-central-cow-heifer-sale/
LOCATION:Lewistown Livestock Auction\, 83 Stockyards Lane\, Lewistown\, MT\, United States
CATEGORIES:Female Sales,Sales
GEO:47.0796929;-109.4273828
X-APPLE-STRUCTURED-LOCATION;VALUE=URI;X-ADDRESS=Lewistown Livestock Auction 83 Stockyards Lane Lewistown MT United States;X-APPLE-RADIUS=500;X-TITLE=83 Stockyards Lane:geo:-109.4273828,47.0796929
END:VEVENT
BEGIN:VEVENT
DTSTART;TZID=America/Detroit:20241114T130000
DTEND;TZID=America/Detroit:20241114T170000
DTSTAMP:20260422T044844
CREATED:20240925T113619Z
LAST-MODIFIED:20241104T205504Z
UID:10000078-1731589200-1731603600@www.wlj.net
SUMMARY:Hoffman Ranch Fall Bull Sale
DESCRIPTION:
URL:https://www.wlj.net/event/hoffman-ranch-fall-bull-sale/
LOCATION:Thedford\, NE\, 39327 W Antelope Valley Road\, Thedford\, NE\, 69166\, United States
CATEGORIES:Bull Sales,Sales
GEO:42.065582;-100.550995
X-APPLE-STRUCTURED-LOCATION;VALUE=URI;X-ADDRESS=Thedford NE 39327 W Antelope Valley Road Thedford NE 69166 United States;X-APPLE-RADIUS=500;X-TITLE=39327 W Antelope Valley Road:geo:-100.550995,42.065582
END:VEVENT
BEGIN:VEVENT
DTSTART;VALUE=DATE:20241115
DTEND;VALUE=DATE:20241116
DTSTAMP:20260422T044844
CREATED:20241017T190728Z
LAST-MODIFIED:20241104T205459Z
UID:10000111-1731628800-1731715199@www.wlj.net
SUMMARY:Jorgensen Land & Cattle Bull Sale
DESCRIPTION:
URL:https://www.wlj.net/event/jorgensen-land-cattle-bull-sale/
LOCATION:Arcadia\, FL\, Arcadia\, FL
CATEGORIES:Bull Sales,Sales
END:VEVENT
BEGIN:VEVENT
DTSTART;VALUE=DATE:20241116
DTEND;VALUE=DATE:20241117
DTSTAMP:20260422T044844
CREATED:20241017T190915Z
LAST-MODIFIED:20241104T205455Z
UID:10000112-1731715200-1731801599@www.wlj.net
SUMMARY:TLC Ranch & Sugar Top Angus Bull Sale
DESCRIPTION:
URL:https://www.wlj.net/event/tlc-ranch-sugar-top-angus-bull-sale/
LOCATION:Jerome\, ID\, Jerome\, ID\, United States
CATEGORIES:Bull Sales,Sales
END:VEVENT
BEGIN:VEVENT
DTSTART;TZID=America/Denver:20241118T110000
DTEND;TZID=America/Denver:20241118T170000
DTSTAMP:20260422T044844
CREATED:20240927T154446Z
LAST-MODIFIED:20241007T234124Z
UID:10000091-1731927600-1731949200@www.wlj.net
SUMMARY:J&L Livestock Bred Females Sale
DESCRIPTION:
URL:https://www.wlj.net/event/montana-angus-female-bonanza/
LOCATION:Public Auction Yards\, 1802 Minnesota Ave\, Billings\, MT\, United States
CATEGORIES:Female Sales
GEO:45.7844925;-108.4895617
X-APPLE-STRUCTURED-LOCATION;VALUE=URI;X-ADDRESS=Public Auction Yards 1802 Minnesota Ave Billings MT United States;X-APPLE-RADIUS=500;X-TITLE=1802 Minnesota Ave:geo:-108.4895617,45.7844925
END:VEVENT
BEGIN:VEVENT
DTSTART;TZID=America/Denver:20241121T080000
DTEND;TZID=America/Denver:20241121T170000
DTSTAMP:20260422T044844
CREATED:20241017T191143Z
LAST-MODIFIED:20241104T205436Z
UID:10000113-1732176000-1732208400@www.wlj.net
SUMMARY:JR Ranch & Sackmann Cattle Bull Sale
DESCRIPTION:
URL:https://www.wlj.net/event/jr-ranch-sackmann-cattle-bull-sale/
LOCATION:Othello\, WA\, 766 South Thacker Road\, Othello\, WA\, 99344\, United States
CATEGORIES:Bull Sales,Sales
GEO:46.8031496;-119.2106694
X-APPLE-STRUCTURED-LOCATION;VALUE=URI;X-ADDRESS=Othello WA 766 South Thacker Road Othello WA 99344 United States;X-APPLE-RADIUS=500;X-TITLE=766 South Thacker Road:geo:-119.2106694,46.8031496
END:VEVENT
BEGIN:VEVENT
DTSTART;TZID=America/Denver:20241121T120000
DTEND;TZID=America/Denver:20241121T170000
DTSTAMP:20260422T044844
CREATED:20241023T151034Z
LAST-MODIFIED:20241122T051915Z
UID:10000133-1732190400-1732208400@www.wlj.net
SUMMARY:5L Red Angus Bull Sale
DESCRIPTION:
URL:https://www.wlj.net/event/5l-red-angus-bull-sale/
LOCATION:Sheridan\, MT\, Sheridan\, MT\, United States
CATEGORIES:Bull Sales
GEO:45.4554809;-112.1969372
END:VEVENT
BEGIN:VEVENT
DTSTART;TZID=America/Detroit:20241122T123000
DTEND;TZID=America/Detroit:20241122T170000
DTSTAMP:20260422T044844
CREATED:20240925T120723Z
LAST-MODIFIED:20240926T153216Z
UID:10000080-1732278600-1732294800@www.wlj.net
SUMMARY:TD Angus Bred Female Sale
DESCRIPTION:
URL:https://www.wlj.net/event/td-angus-bred-female-sale/
LOCATION:North Platte\, NE\, 3230 E Watts Rd\, North Platte\, NE\, 69101\, United States
CATEGORIES:Female Sales
GEO:40.98695;-100.7275676
X-APPLE-STRUCTURED-LOCATION;VALUE=URI;X-ADDRESS=North Platte NE 3230 E Watts Rd North Platte NE 69101 United States;X-APPLE-RADIUS=500;X-TITLE=3230 E Watts Rd:geo:-100.7275676,40.98695
END:VEVENT
BEGIN:VEVENT
DTSTART;TZID=America/Denver:20241123T080000
DTEND;TZID=America/Denver:20241123T170000
DTSTAMP:20260422T044844
CREATED:20241017T191909Z
LAST-MODIFIED:20241108T163751Z
UID:10000116-1732348800-1732381200@www.wlj.net
SUMMARY:Redland Angus Bull Sale
DESCRIPTION:
URL:https://www.wlj.net/event/redland-angus-bull-sale/
LOCATION:Buffalo\, WY\, Buffalo\, WY\, United States
CATEGORIES:Bull Sales,Sales
END:VEVENT
BEGIN:VEVENT
DTSTART;TZID=America/Denver:20241123T080000
DTEND;TZID=America/Denver:20241123T170000
DTSTAMP:20260422T044845
CREATED:20241017T192023Z
LAST-MODIFIED:20241122T161018Z
UID:10000117-1732348800-1732381200@www.wlj.net
SUMMARY:Spring Cove Ranch Female Sale
DESCRIPTION:
URL:https://www.wlj.net/event/spring-cove-ranch-female-sale/
LOCATION:Bliss\, ID\, Bliss\, ID\, United States
CATEGORIES:Female Sales,Sales
GEO:42.9268461;-114.9495057
END:VEVENT
BEGIN:VEVENT
DTSTART;TZID=America/Denver:20241123T110000
DTEND;TZID=America/Denver:20241123T160000
DTSTAMP:20260422T044845
CREATED:20241017T191715Z
LAST-MODIFIED:20241122T161013Z
UID:10000115-1732359600-1732377600@www.wlj.net
SUMMARY:Queen Ann Cattle Co. Female Sale
DESCRIPTION:
URL:https://www.wlj.net/event/diamond-peak-cattle-co-female-sale/
LOCATION:Loma\, CO\, Loma\, CO\, United States
CATEGORIES:Female Sales,Sales
GEO:39.1958139;-108.813158
END:VEVENT
BEGIN:VEVENT
DTSTART;TZID=America/Denver:20241123T130000
DTEND;TZID=America/Denver:20241123T150000
DTSTAMP:20260422T044845
CREATED:20241017T191412Z
LAST-MODIFIED:20241119T213925Z
UID:10000114-1732366800-1732374000@www.wlj.net
SUMMARY:Baldridge/Tiedeman & Frank Cattle and Genetics Female Sale
DESCRIPTION:
URL:https://www.wlj.net/event/baldridge-tiedeman-frank-cattle-and-genetics-female-sale/
LOCATION:Lodgepole\, Nebraska\, 15174 Highway 30\, Lodgepole\, NE\, United States
CATEGORIES:Female Sales
GEO:41.1408228;-102.5970506
X-APPLE-STRUCTURED-LOCATION;VALUE=URI;X-ADDRESS=Lodgepole Nebraska 15174 Highway 30 Lodgepole NE United States;X-APPLE-RADIUS=500;X-TITLE=15174 Highway 30:geo:-102.5970506,41.1408228
END:VEVENT
BEGIN:VEVENT
DTSTART;TZID=America/Los_Angeles:20241124T120000
DTEND;TZID=America/Los_Angeles:20241124T170000
DTSTAMP:20260422T044845
CREATED:20241124T224854Z
LAST-MODIFIED:20241124T224854Z
UID:10000195-1732449600-1732467600@www.wlj.net
SUMMARY:Roman Ranches Bull Sale
DESCRIPTION:
URL:https://www.wlj.net/event/roman-ranches-bull-sale/
LOCATION:Westfall\, OR\, Westfall\, OR\, United States
CATEGORIES:Bull Sales,Sales
END:VEVENT
BEGIN:VEVENT
DTSTART;TZID=UTC:20241125T000000
DTEND;TZID=UTC:20241125T235900
DTSTAMP:20260422T044845
CREATED:20240515T001411Z
LAST-MODIFIED:20241101T132031Z
UID:10000002-1732492800-1732579140@www.wlj.net
SUMMARY:COLA\, Female Sale\, Madras\, OR
DESCRIPTION:Nov. 25 – COLA\, Female Sale\, Madras\, OR
URL:https://www.wlj.net/event/cola-female-sale-madras-or/
LOCATION:Madras\, OR\, 3457 US-97\, Madras\, OR\, 97741\, United States
CATEGORIES:Female Sales,Sales
GEO:44.5856809;-121.1508586
X-APPLE-STRUCTURED-LOCATION;VALUE=URI;X-ADDRESS=Madras OR 3457 US-97 Madras OR 97741 United States;X-APPLE-RADIUS=500;X-TITLE=3457 US-97:geo:-121.1508586,44.5856809
END:VEVENT
BEGIN:VEVENT
DTSTART;TZID=America/Denver:20241125T130000
DTEND;TZID=America/Denver:20241125T150000
DTSTAMP:20260422T044845
CREATED:20241021T204245Z
LAST-MODIFIED:20241203T175021Z
UID:10000124-1732539600-1732546800@www.wlj.net
SUMMARY:Berry Herefords Bull Sale
DESCRIPTION:
URL:https://www.wlj.net/event/the-berrys-hereford-bull-sale/
LOCATION:Cheyenne\, WY\, Cheyenne\, WY\, 82001\, United States
CATEGORIES:Bull Sales,Sales
GEO:41.1347435;-104.8211901
END:VEVENT
BEGIN:VEVENT
DTSTART;TZID=America/Denver:20241126T080000
DTEND;TZID=America/Denver:20241126T170000
DTSTAMP:20260422T044845
CREATED:20241017T192351Z
LAST-MODIFIED:20241203T175847Z
UID:10000119-1732608000-1732640400@www.wlj.net
SUMMARY:Paint Rock Angus Bull Sale
DESCRIPTION:
URL:https://www.wlj.net/event/paint-rock-angus-bull-sale/
LOCATION:Hyattville\, WY\, Hyattville\, WY\, United States
CATEGORIES:Bull Sales,Sales
END:VEVENT
BEGIN:VEVENT
DTSTART;TZID=America/Denver:20241129T110000
DTEND;TZID=America/Denver:20241130T170000
DTSTAMP:20260422T044845
CREATED:20240927T160002Z
LAST-MODIFIED:20240927T160002Z
UID:10000093-1732878000-1732986000@www.wlj.net
SUMMARY:Vermilion Angus Ranch Fall Production Sale
DESCRIPTION:
URL:https://www.wlj.net/event/vermilion-angus-ranch-fall-production-sale/
LOCATION:Public Auction Yards\, 1802 Minnesota Ave\, Billings\, MT\, United States
CATEGORIES:Bull Sales,Female Sales
GEO:45.7844925;-108.4895617
X-APPLE-STRUCTURED-LOCATION;VALUE=URI;X-ADDRESS=Public Auction Yards 1802 Minnesota Ave Billings MT United States;X-APPLE-RADIUS=500;X-TITLE=1802 Minnesota Ave:geo:-108.4895617,45.7844925
END:VEVENT
BEGIN:VEVENT
DTSTART;TZID=America/Denver:20241202T120000
DTEND;TZID=America/Denver:20241202T170000
DTSTAMP:20260422T044845
CREATED:20240927T160905Z
LAST-MODIFIED:20240927T162056Z
UID:10000094-1733140800-1733158800@www.wlj.net
SUMMARY:Stevenson's Diamond Dot Ranch
DESCRIPTION:
URL:https://www.wlj.net/event/stevensons-diamond-dot-ranch/
LOCATION:Stevensons Diamond Dot Ranch\, 9388 Montana Highway 400\, Hobson\, MT\, United States
CATEGORIES:Bull Sales,Female Sales,Production Sales
GEO:47.0008145;-109.8724643
X-APPLE-STRUCTURED-LOCATION;VALUE=URI;X-ADDRESS=Stevensons Diamond Dot Ranch 9388 Montana Highway 400 Hobson MT United States;X-APPLE-RADIUS=500;X-TITLE=9388 Montana Highway 400:geo:-109.8724643,47.0008145
END:VEVENT
BEGIN:VEVENT
DTSTART;TZID=America/Denver:20241202T130000
DTEND;TZID=America/Denver:20241202T170000
DTSTAMP:20260422T044845
CREATED:20240927T161316Z
LAST-MODIFIED:20240927T161931Z
UID:10000096-1733144400-1733158800@www.wlj.net
SUMMARY:Jacobsen Ranch
DESCRIPTION:
URL:https://www.wlj.net/event/jacobsen-ranch/
LOCATION:Western Livestock Auction\, 406 Vaughn S. Frontage Rd\, Great Falls\, MT\, United States
CATEGORIES:Bull Sales,Production Sales
GEO:47.5428693;-111.4564126
X-APPLE-STRUCTURED-LOCATION;VALUE=URI;X-ADDRESS=Western Livestock Auction 406 Vaughn S. Frontage Rd Great Falls MT United States;X-APPLE-RADIUS=500;X-TITLE=406 Vaughn S. Frontage Rd:geo:-111.4564126,47.5428693
END:VEVENT
BEGIN:VEVENT
DTSTART;TZID=America/Denver:20241203T080000
DTEND;TZID=America/Denver:20241203T170000
DTSTAMP:20260422T044845
CREATED:20241017T192659Z
LAST-MODIFIED:20241115T161730Z
UID:10000120-1733212800-1733245200@www.wlj.net
SUMMARY:ZumBrunnen Angus Production Sale
DESCRIPTION:
URL:https://www.wlj.net/event/zumbrunnen-angus-production-sale/
LOCATION:Lusk\, WY\, Lusk\, WY\, United States
CATEGORIES:Production Sales
GEO:42.7624668;-104.4521747
END:VEVENT
BEGIN:VEVENT
DTSTART;TZID=America/Denver:20241203T130000
DTEND;TZID=America/Denver:20241203T170000
DTSTAMP:20260422T044845
CREATED:20240927T161616Z
LAST-MODIFIED:20240927T162239Z
UID:10000095-1733230800-1733245200@www.wlj.net
SUMMARY:Stevenson Angus Ranch
DESCRIPTION:
URL:https://www.wlj.net/event/stevenson-angus-ranch/
LOCATION:Stevenson Angus Ranch Hobson\, 370 Jrs Ln\, Hobson\, MT\, United States
CATEGORIES:Bull Sales,Female Sales,Production Sales
GEO:46.985614;-109.859716
X-APPLE-STRUCTURED-LOCATION;VALUE=URI;X-ADDRESS=Stevenson Angus Ranch Hobson 370 Jrs Ln Hobson MT United States;X-APPLE-RADIUS=500;X-TITLE=370 Jrs Ln:geo:-109.859716,46.985614
END:VEVENT
BEGIN:VEVENT
DTSTART;VALUE=DATE:20241204
DTEND;VALUE=DATE:20241207
DTSTAMP:20260422T044845
CREATED:20241011T150556Z
LAST-MODIFIED:20241011T190607Z
UID:10000100-1733270400-1733529599@www.wlj.net
SUMMARY:National Grazing Lands Conference
DESCRIPTION:Dec. 4-6 – The National Grazing Lands Coalition will hold the ninth National Grazing Lands Conference in Tucson\, AZ. Registration is open at www.grazinglands.org.
URL:https://www.wlj.net/event/national-grazing-lands-conference/
CATEGORIES:Coming Events
END:VEVENT
BEGIN:VEVENT
DTSTART;TZID=America/Denver:20241204T080000
DTEND;TZID=America/Denver:20241204T170000
DTSTAMP:20260422T044845
CREATED:20241023T143208Z
LAST-MODIFIED:20241023T143315Z
UID:10000131-1733299200-1733331600@www.wlj.net
SUMMARY:Big Sky Elite Female Sale
DESCRIPTION:
URL:https://www.wlj.net/event/big-sky-elite-female-sale/
LOCATION:Three Forks\, MT\, Three Forks\, MT\, United States
CATEGORIES:Female Sales
END:VEVENT
BEGIN:VEVENT
DTSTART;TZID=America/Denver:20241204T130000
DTEND;TZID=America/Denver:20241204T170000
DTSTAMP:20260422T044845
CREATED:20240927T162458Z
LAST-MODIFIED:20240927T162458Z
UID:10000097-1733317200-1733331600@www.wlj.net
SUMMARY:Beef Country Breeders
DESCRIPTION:
URL:https://www.wlj.net/event/beef-country-breeders/
LOCATION:Midland Bull Test\, 5 Bull Dr\, Columbus\, MT\, United States
CATEGORIES:Bull Sales
GEO:45.59845;-109.148254
X-APPLE-STRUCTURED-LOCATION;VALUE=URI;X-ADDRESS=Midland Bull Test 5 Bull Dr Columbus MT United States;X-APPLE-RADIUS=500;X-TITLE=5 Bull Dr:geo:-109.148254,45.59845
END:VEVENT
BEGIN:VEVENT
DTSTART;VALUE=DATE:20241205
DTEND;VALUE=DATE:20241208
DTSTAMP:20260422T044845
CREATED:20241108T152013Z
LAST-MODIFIED:20241108T152013Z
UID:10000141-1733356800-1733615999@www.wlj.net
SUMMARY:United States Cattlemen’s Association 2024 Annual Meeting
DESCRIPTION:Dec. 5-7 – The United States Cattlemen’s Association will host their 2024 Annual Meeting in San Antonio\, TX\, at the InterContinental Hotel. Details: uscattlemen.org/annual-meeting-2024.
URL:https://www.wlj.net/event/united-states-cattlemens-association-2024-annual-meeting/
CATEGORIES:Coming Events
END:VEVENT
BEGIN:VEVENT
DTSTART;TZID=America/Denver:20241205T110000
DTEND;TZID=America/Denver:20241205T170000
DTSTAMP:20260422T044845
CREATED:20240927T162701Z
LAST-MODIFIED:20240927T162747Z
UID:10000098-1733396400-1733418000@www.wlj.net
SUMMARY:Sitz Angus Ranch
DESCRIPTION:
URL:https://www.wlj.net/event/sitz-angus-ranch/
LOCATION:Sitz Angus Ranch Harrison\, 37 Sitz Rd\, Harrison\, MT\, United States
CATEGORIES:Bull Sales,Production Sales
GEO:45.6211885;-111.8028526
X-APPLE-STRUCTURED-LOCATION;VALUE=URI;X-ADDRESS=Sitz Angus Ranch Harrison 37 Sitz Rd Harrison MT United States;X-APPLE-RADIUS=500;X-TITLE=37 Sitz Rd:geo:-111.8028526,45.6211885
END:VEVENT
BEGIN:VEVENT
DTSTART;TZID=America/Los_Angeles:20241205T130000
DTEND;TZID=America/Los_Angeles:20241205T170000
DTSTAMP:20260422T044845
CREATED:20241101T133118Z
LAST-MODIFIED:20241127T163218Z
UID:10000139-1733403600-1733418000@www.wlj.net
SUMMARY:Kern Cattle Bull Sale
DESCRIPTION:
URL:https://www.wlj.net/event/kern-cattle-bull-sale/
LOCATION:Visalia\, CA\, 733 North Ben Maddox Way\, Visalia\, CA\, 93279\, United States
CATEGORIES:Bull Sales,Sales
GEO:36.3358674;-119.2808523
X-APPLE-STRUCTURED-LOCATION;VALUE=URI;X-ADDRESS=Visalia CA 733 North Ben Maddox Way Visalia CA 93279 United States;X-APPLE-RADIUS=500;X-TITLE=733 North Ben Maddox Way:geo:-119.2808523,36.3358674
END:VEVENT
BEGIN:VEVENT
DTSTART;TZID=America/Denver:20241206T080000
DTEND;TZID=America/Denver:20241206T170000
DTSTAMP:20260422T044845
CREATED:20241023T141141Z
LAST-MODIFIED:20241023T141141Z
UID:10000130-1733472000-1733504400@www.wlj.net
SUMMARY:Western States Hereford Sale
DESCRIPTION:
URL:https://www.wlj.net/event/western-states-hereford-sale/
LOCATION:Reno\, NV\, 1350 N Wls Ave\, Reno\, NV\, 89512\, United States
CATEGORIES:Bull Sales
GEO:39.5430485;-119.801976
X-APPLE-STRUCTURED-LOCATION;VALUE=URI;X-ADDRESS=Reno NV 1350 N Wls Ave Reno NV 89512 United States;X-APPLE-RADIUS=500;X-TITLE=1350 N Wls Ave:geo:-119.801976,39.5430485
END:VEVENT
BEGIN:VEVENT
DTSTART;TZID=America/Denver:20241206T080000
DTEND;TZID=America/Denver:20241206T170000
DTSTAMP:20260422T044845
CREATED:20241023T153812Z
LAST-MODIFIED:20241023T153812Z
UID:10000134-1733472000-1733504400@www.wlj.net
SUMMARY:Yardley Cattle Co. Female Sale
DESCRIPTION:
URL:https://www.wlj.net/event/yardley-cattle-co-female-sale/
LOCATION:Beaver\, UT\, Beaver\, UT\, United States
CATEGORIES:Female Sales
GEO:38.2769149;-112.6410518
END:VEVENT
END:VCALENDAR