BEGIN:VCALENDAR
VERSION:2.0
PRODID:-//Western Livestock Journal - ECPv6.15.20//NONSGML v1.0//EN
CALSCALE:GREGORIAN
METHOD:PUBLISH
X-ORIGINAL-URL:https://www.wlj.net
X-WR-CALDESC:Events for Western Livestock Journal
REFRESH-INTERVAL;VALUE=DURATION:PT1H
X-Robots-Tag:noindex
X-PUBLISHED-TTL:PT1H
BEGIN:VTIMEZONE
TZID:America/Denver
BEGIN:DAYLIGHT
TZOFFSETFROM:-0700
TZOFFSETTO:-0600
TZNAME:MDT
DTSTART:20230312T090000
END:DAYLIGHT
BEGIN:STANDARD
TZOFFSETFROM:-0600
TZOFFSETTO:-0700
TZNAME:MST
DTSTART:20231105T080000
END:STANDARD
BEGIN:DAYLIGHT
TZOFFSETFROM:-0700
TZOFFSETTO:-0600
TZNAME:MDT
DTSTART:20240310T090000
END:DAYLIGHT
BEGIN:STANDARD
TZOFFSETFROM:-0600
TZOFFSETTO:-0700
TZNAME:MST
DTSTART:20241103T080000
END:STANDARD
BEGIN:DAYLIGHT
TZOFFSETFROM:-0700
TZOFFSETTO:-0600
TZNAME:MDT
DTSTART:20250309T090000
END:DAYLIGHT
BEGIN:STANDARD
TZOFFSETFROM:-0600
TZOFFSETTO:-0700
TZNAME:MST
DTSTART:20251102T080000
END:STANDARD
END:VTIMEZONE
BEGIN:VTIMEZONE
TZID:America/Los_Angeles
BEGIN:DAYLIGHT
TZOFFSETFROM:-0800
TZOFFSETTO:-0700
TZNAME:PDT
DTSTART:20230312T100000
END:DAYLIGHT
BEGIN:STANDARD
TZOFFSETFROM:-0700
TZOFFSETTO:-0800
TZNAME:PST
DTSTART:20231105T090000
END:STANDARD
BEGIN:DAYLIGHT
TZOFFSETFROM:-0800
TZOFFSETTO:-0700
TZNAME:PDT
DTSTART:20240310T100000
END:DAYLIGHT
BEGIN:STANDARD
TZOFFSETFROM:-0700
TZOFFSETTO:-0800
TZNAME:PST
DTSTART:20241103T090000
END:STANDARD
BEGIN:DAYLIGHT
TZOFFSETFROM:-0800
TZOFFSETTO:-0700
TZNAME:PDT
DTSTART:20250309T100000
END:DAYLIGHT
BEGIN:STANDARD
TZOFFSETFROM:-0700
TZOFFSETTO:-0800
TZNAME:PST
DTSTART:20251102T090000
END:STANDARD
END:VTIMEZONE
BEGIN:VTIMEZONE
TZID:America/Detroit
BEGIN:DAYLIGHT
TZOFFSETFROM:-0500
TZOFFSETTO:-0400
TZNAME:EDT
DTSTART:20230312T070000
END:DAYLIGHT
BEGIN:STANDARD
TZOFFSETFROM:-0400
TZOFFSETTO:-0500
TZNAME:EST
DTSTART:20231105T060000
END:STANDARD
BEGIN:DAYLIGHT
TZOFFSETFROM:-0500
TZOFFSETTO:-0400
TZNAME:EDT
DTSTART:20240310T070000
END:DAYLIGHT
BEGIN:STANDARD
TZOFFSETFROM:-0400
TZOFFSETTO:-0500
TZNAME:EST
DTSTART:20241103T060000
END:STANDARD
BEGIN:DAYLIGHT
TZOFFSETFROM:-0500
TZOFFSETTO:-0400
TZNAME:EDT
DTSTART:20250309T070000
END:DAYLIGHT
BEGIN:STANDARD
TZOFFSETFROM:-0400
TZOFFSETTO:-0500
TZNAME:EST
DTSTART:20251102T060000
END:STANDARD
END:VTIMEZONE
BEGIN:VEVENT
DTSTART;TZID=America/Denver:20240920T130000
DTEND;TZID=America/Denver:20240920T170000
DTSTAMP:20260422T030526
CREATED:20240918T145151Z
LAST-MODIFIED:20240918T145151Z
UID:10000056-1726837200-1726851600@www.wlj.net
SUMMARY:Churchill Cattle Co Fall Female Sale
DESCRIPTION:
URL:https://www.wlj.net/event/churchill-cattle-co-fall-female-sale/
LOCATION:Manhattan\, MT\, 1862 Yadon Rd\, Manhattan\, MT\, 59741\, United States
CATEGORIES:Female Sales
GEO:45.8752833;-111.323088
X-APPLE-STRUCTURED-LOCATION;VALUE=URI;X-ADDRESS=Manhattan MT 1862 Yadon Rd Manhattan MT 59741 United States;X-APPLE-RADIUS=500;X-TITLE=1862 Yadon Rd:geo:-111.323088,45.8752833
END:VEVENT
BEGIN:VEVENT
DTSTART;TZID=America/Los_Angeles:20240920T130000
DTEND;TZID=America/Los_Angeles:20240920T170000
DTSTAMP:20260422T030526
CREATED:20240918T142714Z
LAST-MODIFIED:20240918T142714Z
UID:10000047-1726837200-1726851600@www.wlj.net
SUMMARY:Dixie Valley Ranch Bull Sale
DESCRIPTION:
URL:https://www.wlj.net/event/dixie-valley-ranch-bull-sale/
LOCATION:Galt\, CA\, Galt\, CA\, 95632\, United States
CATEGORIES:Bull Sales
END:VEVENT
BEGIN:VEVENT
DTSTART;TZID=America/Denver:20240921T130000
DTEND;TZID=America/Denver:20240921T170000
DTSTAMP:20260422T030526
CREATED:20240918T151504Z
LAST-MODIFIED:20240918T151504Z
UID:10000065-1726923600-1726938000@www.wlj.net
SUMMARY:Weaver Quarter Horse Sale
DESCRIPTION:
URL:https://www.wlj.net/event/weaver-quarter-horse-sale/
LOCATION:Great Falls\, MT\, Great Falls\, MT\, United States
CATEGORIES:Horse Sales
END:VEVENT
BEGIN:VEVENT
DTSTART;TZID=America/Denver:20240921T130000
DTEND;TZID=America/Denver:20240921T170000
DTSTAMP:20260422T030526
CREATED:20240918T145435Z
LAST-MODIFIED:20240918T145435Z
UID:10000057-1726923600-1726938000@www.wlj.net
SUMMARY:Ehlke Herefords Annual Female Sale
DESCRIPTION:
URL:https://www.wlj.net/event/ehlke-herefords-annual-female-sale/
LOCATION:Townsend\, MT\, 3925 MT Highway 284\, Townsend\, MT\, 59644\, United States
CATEGORIES:Female Sales
GEO:46.5157515;-111.4853987
X-APPLE-STRUCTURED-LOCATION;VALUE=URI;X-ADDRESS=Townsend MT 3925 MT Highway 284 Townsend MT 59644 United States;X-APPLE-RADIUS=500;X-TITLE=3925 MT Highway 284:geo:-111.4853987,46.5157515
END:VEVENT
BEGIN:VEVENT
DTSTART;TZID=America/Detroit:20240921T130000
DTEND;TZID=America/Detroit:20240921T170000
DTSTAMP:20260422T030526
CREATED:20240918T142935Z
LAST-MODIFIED:20240918T143024Z
UID:10000048-1726923600-1726938000@www.wlj.net
SUMMARY:Jorgensen Land and Cattle Motherlode Female Sale
DESCRIPTION:
URL:https://www.wlj.net/event/jorgensen-land-and-cattle-motherlode-female-sale/
LOCATION:Ideal\, SD\, 31250 265th St\, Ideal\, SD\, 57541\, United States
CATEGORIES:Female Sales
GEO:43.5572099;-99.9112536
X-APPLE-STRUCTURED-LOCATION;VALUE=URI;X-ADDRESS=Ideal SD 31250 265th St Ideal SD 57541 United States;X-APPLE-RADIUS=500;X-TITLE=31250 265th St:geo:-99.9112536,43.5572099
END:VEVENT
BEGIN:VEVENT
DTSTART;TZID=America/Denver:20240922T130000
DTEND;TZID=America/Denver:20240922T170000
DTSTAMP:20260422T030526
CREATED:20240918T145617Z
LAST-MODIFIED:20240918T145617Z
UID:10000058-1727010000-1727024400@www.wlj.net
SUMMARY:Mohican West Complete Dispersion
DESCRIPTION:
URL:https://www.wlj.net/event/mohican-west-complete-dispersion/
LOCATION:Laurel\, MT\, Laurel\, MT\, United States
CATEGORIES:Female Sales
END:VEVENT
BEGIN:VEVENT
DTSTART;TZID=America/Los_Angeles:20240922T130000
DTEND;TZID=America/Los_Angeles:20240922T170000
DTSTAMP:20260422T030526
CREATED:20240918T144713Z
LAST-MODIFIED:20240918T144713Z
UID:10000055-1727010000-1727024400@www.wlj.net
SUMMARY:Stegall Cattle Co. Annual Bull Sale
DESCRIPTION:
URL:https://www.wlj.net/event/stegall-cattle-co-annual-bull-sale/
LOCATION:Colusa\, CA\, 3455 Grover Ave\, Colusa\, CA\, 95932\, United States
CATEGORIES:Bull Sales
GEO:39.2285619;-122.031783
X-APPLE-STRUCTURED-LOCATION;VALUE=URI;X-ADDRESS=Colusa CA 3455 Grover Ave Colusa CA 95932 United States;X-APPLE-RADIUS=500;X-TITLE=3455 Grover Ave:geo:-122.031783,39.2285619
END:VEVENT
BEGIN:VEVENT
DTSTART;TZID=America/Los_Angeles:20240924T130000
DTEND;TZID=America/Los_Angeles:20240924T170000
DTSTAMP:20260422T030526
CREATED:20240918T143148Z
LAST-MODIFIED:20240918T143148Z
UID:10000049-1727182800-1727197200@www.wlj.net
SUMMARY:Thomas Angus Ranch California Bull Sale
DESCRIPTION:
URL:https://www.wlj.net/event/thomas-angus-ranch-california-bull-sale/
LOCATION:Galt\, CA\, Galt\, CA\, 95632\, United States
CATEGORIES:Bull Sales
END:VEVENT
BEGIN:VEVENT
DTSTART;TZID=America/Los_Angeles:20240925T130000
DTEND;TZID=America/Los_Angeles:20240925T170000
DTSTAMP:20260422T030526
CREATED:20240918T150913Z
LAST-MODIFIED:20240918T150913Z
UID:10000063-1727269200-1727283600@www.wlj.net
SUMMARY:Eagle Pass Ranch California Bull Sale
DESCRIPTION:
URL:https://www.wlj.net/event/eagle-pass-ranch-california-bull-sale/
LOCATION:Dos Palos\, CA\, Dos Palos\, CA\, United States
CATEGORIES:Bull Sales
END:VEVENT
BEGIN:VEVENT
DTSTART;VALUE=DATE:20240926
DTEND;VALUE=DATE:20240927
DTSTAMP:20260422T030526
CREATED:20240918T143448Z
LAST-MODIFIED:20241002T165434Z
UID:10000050-1727308800-1727395199@www.wlj.net
SUMMARY:Beef Solutions Bull Sale
DESCRIPTION:
URL:https://www.wlj.net/event/beef-solutions-bull-sale/
LOCATION:Ione\, CA\, 1000 Cook Rd\, Ione\, CA\, 95640\, United States
CATEGORIES:Bull Sales
GEO:38.307775;-121.00972
X-APPLE-STRUCTURED-LOCATION;VALUE=URI;X-ADDRESS=Ione CA 1000 Cook Rd Ione CA 95640 United States;X-APPLE-RADIUS=500;X-TITLE=1000 Cook Rd:geo:-121.00972,38.307775
END:VEVENT
BEGIN:VEVENT
DTSTART;TZID=America/Los_Angeles:20240928T130000
DTEND;TZID=America/Los_Angeles:20240928T170000
DTSTAMP:20260422T030526
CREATED:20240918T130606Z
LAST-MODIFIED:20240918T133054Z
UID:10000044-1727528400-1727542800@www.wlj.net
SUMMARY:McPhee Red Angus Production Sale
DESCRIPTION:
URL:https://www.wlj.net/event/mcphee-red-angus-production-sale/
LOCATION:Lodi\, CA\, 14298 N. Atkins Rd\, Lodi\, CA\, 95240\, United States
CATEGORIES:Production Sales
GEO:38.1111225;-121.0942374
X-APPLE-STRUCTURED-LOCATION;VALUE=URI;X-ADDRESS=Lodi CA 14298 N. Atkins Rd Lodi CA 95240 United States;X-APPLE-RADIUS=500;X-TITLE=14298 N. Atkins Rd:geo:-121.0942374,38.1111225
END:VEVENT
BEGIN:VEVENT
DTSTART;TZID=America/Los_Angeles:20240929T130000
DTEND;TZID=America/Los_Angeles:20240929T170000
DTSTAMP:20260422T030526
CREATED:20240918T143712Z
LAST-MODIFIED:20240918T143712Z
UID:10000051-1727614800-1727629200@www.wlj.net
SUMMARY:Traynham Cox LLC Production Sale
DESCRIPTION:
URL:https://www.wlj.net/event/traynham-cox-llc-production-sale/
LOCATION:Fort Klamath\, OR\, 10330 Nicholson Rd\, Fort Klamath\, OR\, United States
CATEGORIES:Production Sales
GEO:42.7009903;-122.0122381
X-APPLE-STRUCTURED-LOCATION;VALUE=URI;X-ADDRESS=Fort Klamath OR 10330 Nicholson Rd Fort Klamath OR United States;X-APPLE-RADIUS=500;X-TITLE=10330 Nicholson Rd:geo:-122.0122381,42.7009903
END:VEVENT
BEGIN:VEVENT
DTSTART;TZID=America/Los_Angeles:20241004T130000
DTEND;TZID=America/Los_Angeles:20241004T170000
DTSTAMP:20260422T030526
CREATED:20240918T143919Z
LAST-MODIFIED:20240918T143919Z
UID:10000052-1728046800-1728061200@www.wlj.net
SUMMARY:Elwood Ranches 1st Bull Sale
DESCRIPTION:
URL:https://www.wlj.net/event/elwood-ranches-1st-bull-sale/
LOCATION:Red Bluff\, CA\, 650 Antelope Rd\, Red Bluff\, CA\, 96080\, United States
CATEGORIES:Bull Sales
GEO:40.1879014;-122.202128
X-APPLE-STRUCTURED-LOCATION;VALUE=URI;X-ADDRESS=Red Bluff CA 650 Antelope Rd Red Bluff CA 96080 United States;X-APPLE-RADIUS=500;X-TITLE=650 Antelope Rd:geo:-122.202128,40.1879014
END:VEVENT
BEGIN:VEVENT
DTSTART;TZID=America/Los_Angeles:20241005T080000
DTEND;TZID=America/Los_Angeles:20241005T170000
DTSTAMP:20260422T030526
CREATED:20240918T150202Z
LAST-MODIFIED:20240918T150202Z
UID:10000060-1728115200-1728147600@www.wlj.net
SUMMARY:Turlock Livestock CA Breeders Bull Sale
DESCRIPTION:
URL:https://www.wlj.net/event/turlock-livestock-ca-breeders-bull-sale/
LOCATION:Turlock\, CA\, 10430 N Lander Ave\, Turlock\, CA\, United States
CATEGORIES:Bull Sales
GEO:37.439327;-120.8488429
X-APPLE-STRUCTURED-LOCATION;VALUE=URI;X-ADDRESS=Turlock CA 10430 N Lander Ave Turlock CA United States;X-APPLE-RADIUS=500;X-TITLE=10430 N Lander Ave:geo:-120.8488429,37.439327
END:VEVENT
BEGIN:VEVENT
DTSTART;TZID=America/Los_Angeles:20241005T130000
DTEND;TZID=America/Los_Angeles:20241005T170000
DTSTAMP:20260422T030526
CREATED:20240918T151206Z
LAST-MODIFIED:20240926T144141Z
UID:10000064-1728133200-1728147600@www.wlj.net
SUMMARY:Leachman Cattle Topline California Bull Sale
DESCRIPTION:
URL:https://www.wlj.net/event/leachman-cattle-topline-california-bull-sale/
LOCATION:Aromas\, CA\, Aromas\, CA\, United States
CATEGORIES:Bull Sales
END:VEVENT
BEGIN:VEVENT
DTSTART;TZID=America/Denver:20241005T150000
DTEND;TZID=America/Denver:20241005T170000
DTSTAMP:20260422T030526
CREATED:20240918T145907Z
LAST-MODIFIED:20240918T145907Z
UID:10000059-1728140400-1728147600@www.wlj.net
SUMMARY:Colyer Herefords and Angus Fall Female Sale
DESCRIPTION:
URL:https://www.wlj.net/event/colyer-herefords-and-angus-fall-female-sale/
LOCATION:Bruneau\, ID\, 31058 Colyer Rd\, Bruneau\, ID\, 83604\, United States
CATEGORIES:Female Sales
GEO:42.9103641;-115.8417842
X-APPLE-STRUCTURED-LOCATION;VALUE=URI;X-ADDRESS=Bruneau ID 31058 Colyer Rd Bruneau ID 83604 United States;X-APPLE-RADIUS=500;X-TITLE=31058 Colyer Rd:geo:-115.8417842,42.9103641
END:VEVENT
BEGIN:VEVENT
DTSTART;TZID=America/Los_Angeles:20241006T130000
DTEND;TZID=America/Los_Angeles:20241006T170000
DTSTAMP:20260422T030526
CREATED:20240918T144144Z
LAST-MODIFIED:20240918T144144Z
UID:10000053-1728219600-1728234000@www.wlj.net
SUMMARY:Cal Poly Bull Test and Sale
DESCRIPTION:
URL:https://www.wlj.net/event/cal-poly-bull-test-and-sale/
LOCATION:San Luis Obispo\, CA\, San Luis Obispo\, CA\, United States
CATEGORIES:Bull Sales
END:VEVENT
BEGIN:VEVENT
DTSTART;VALUE=DATE:20241007
DTEND;VALUE=DATE:20241008
DTSTAMP:20260422T030526
CREATED:20240910T155428Z
LAST-MODIFIED:20240910T155928Z
UID:10000041-1728259200-1728345599@www.wlj.net
SUMMARY:NCBA/PLC 2025 Spring Internship
DESCRIPTION:The 2025 spring internship application process for the National Cattlemen’s Beef Association and the Public Lands Council is now open. Details: tinyurl.com/2xce6cjp.  
URL:https://www.wlj.net/event/ncba-plc-2025-spring-internship/
END:VEVENT
BEGIN:VEVENT
DTSTART;TZID=America/Denver:20241008T130000
DTEND;TZID=America/Denver:20241008T170000
DTSTAMP:20260422T030526
CREATED:20240924T230243Z
LAST-MODIFIED:20240924T230243Z
UID:10000073-1728392400-1728406800@www.wlj.net
SUMMARY:Coleman Angus Female Sale
DESCRIPTION:
URL:https://www.wlj.net/event/coleman-angus-female-sale/
LOCATION:40067 MORRIS RD\, Charlo\, MT\, 40067 MORRIS RD\, Charlo\, MT\, United States
CATEGORIES:Female Sales
GEO:47.4427086;-114.2049501
X-APPLE-STRUCTURED-LOCATION;VALUE=URI;X-ADDRESS=40067 MORRIS RD Charlo MT 40067 MORRIS RD Charlo MT United States;X-APPLE-RADIUS=500;X-TITLE=40067 MORRIS RD:geo:-114.2049501,47.4427086
END:VEVENT
BEGIN:VEVENT
DTSTART;TZID=America/Los_Angeles:20241008T130000
DTEND;TZID=America/Los_Angeles:20241008T170000
DTSTAMP:20260422T030526
CREATED:20240918T144423Z
LAST-MODIFIED:20240918T144423Z
UID:10000054-1728392400-1728406800@www.wlj.net
SUMMARY:9 Peaks Angus Ranch Bull Sale
DESCRIPTION:
URL:https://www.wlj.net/event/9-peaks-angus-ranch-bull-sale/
LOCATION:Fort Rock\, OR\, Fort Rock\, OR\, United States
CATEGORIES:Bull Sales
END:VEVENT
BEGIN:VEVENT
DTSTART;TZID=America/Denver:20241009T130000
DTEND;TZID=America/Denver:20241009T160000
DTSTAMP:20260422T030526
CREATED:20240924T231231Z
LAST-MODIFIED:20240924T231231Z
UID:10000074-1728478800-1728489600@www.wlj.net
SUMMARY:Montana Ranch Female Sale
DESCRIPTION:
URL:https://www.wlj.net/event/montana-ranch-female-sale/
LOCATION:Montana Ranch\, 1463 MT Hwy. 83\, Big Fork\, MT\, 59911\, United States
CATEGORIES:Female Sales
GEO:48.1056162;-114.0141171
X-APPLE-STRUCTURED-LOCATION;VALUE=URI;X-ADDRESS=Montana Ranch 1463 MT Hwy. 83 Big Fork MT 59911 United States;X-APPLE-RADIUS=500;X-TITLE=1463 MT Hwy. 83:geo:-114.0141171,48.1056162
END:VEVENT
BEGIN:VEVENT
DTSTART;TZID=America/Detroit:20241010T120000
DTEND;TZID=America/Detroit:20241010T170000
DTSTAMP:20260422T030526
CREATED:20240924T160703Z
LAST-MODIFIED:20240924T214926Z
UID:10000068-1728561600-1728579600@www.wlj.net
SUMMARY:Jamison Ranch
DESCRIPTION:
URL:https://www.wlj.net/event/jamison-ranch/
LOCATION:Quinter\, KS\, 2271 County Road 74\, Quinter\, KS\, 67752\, United States
CATEGORIES:Horse Sales,Sales
GEO:39.0128723;-100.2240357
X-APPLE-STRUCTURED-LOCATION;VALUE=URI;X-ADDRESS=Quinter KS 2271 County Road 74 Quinter KS 67752 United States;X-APPLE-RADIUS=500;X-TITLE=2271 County Road 74:geo:-100.2240357,39.0128723
END:VEVENT
BEGIN:VEVENT
DTSTART;TZID=America/Los_Angeles:20241012T130000
DTEND;TZID=America/Los_Angeles:20241012T170000
DTSTAMP:20260422T030526
CREATED:20240926T143351Z
LAST-MODIFIED:20240926T143351Z
UID:10000088-1728738000-1728752400@www.wlj.net
SUMMARY:Vintage Angus Ranch Female Sale
DESCRIPTION:
URL:https://www.wlj.net/event/vintage-angus-ranch-female-sale-2/
LOCATION:Vintage Angus Headquarters\, 2702 Scenic Bend\, Modesto\, CA\, 95354\, United States
CATEGORIES:Female Sales
GEO:37.6528463;-120.9465449
X-APPLE-STRUCTURED-LOCATION;VALUE=URI;X-ADDRESS=Vintage Angus Headquarters 2702 Scenic Bend Modesto CA 95354 United States;X-APPLE-RADIUS=500;X-TITLE=2702 Scenic Bend:geo:-120.9465449,37.6528463
END:VEVENT
BEGIN:VEVENT
DTSTART;TZID=America/Los_Angeles:20241012T130000
DTEND;TZID=America/Los_Angeles:20241012T170000
DTSTAMP:20260422T030526
CREATED:20240918T150529Z
LAST-MODIFIED:20240918T150529Z
UID:10000061-1728738000-1728752400@www.wlj.net
SUMMARY:Snedden Ranch Bull Sale
DESCRIPTION:
URL:https://www.wlj.net/event/snedden-ranch-bull-sale/
LOCATION:Maricopa\, CA\, 29950 Hudson Rd\, Maricopa\, CA\, 93252\, United States
CATEGORIES:Bull Sales
GEO:35.058858;-119.4009509
X-APPLE-STRUCTURED-LOCATION;VALUE=URI;X-ADDRESS=Maricopa CA 29950 Hudson Rd Maricopa CA 93252 United States;X-APPLE-RADIUS=500;X-TITLE=29950 Hudson Rd:geo:-119.4009509,35.058858
END:VEVENT
BEGIN:VEVENT
DTSTART;TZID=America/Los_Angeles:20241013T100000
DTEND;TZID=America/Los_Angeles:20241013T170000
DTSTAMP:20260422T030526
CREATED:20240926T143529Z
LAST-MODIFIED:20240926T143529Z
UID:10000089-1728813600-1728838800@www.wlj.net
SUMMARY:EZ Angus Ranch Complete Dispersion
DESCRIPTION:
URL:https://www.wlj.net/event/ez-angus-ranch-complete-dispersion/
LOCATION:Farmington\, CA\, 22950 Milton Rd\, Farmington\, CA\, 95230\, United States
CATEGORIES:Female Sales
GEO:37.9735855;-120.8430349
X-APPLE-STRUCTURED-LOCATION;VALUE=URI;X-ADDRESS=Farmington CA 22950 Milton Rd Farmington CA 95230 United States;X-APPLE-RADIUS=500;X-TITLE=22950 Milton Rd:geo:-120.8430349,37.9735855
END:VEVENT
BEGIN:VEVENT
DTSTART;TZID=America/Denver:20241016T170000
DTEND;TZID=America/Denver:20241016T190000
DTSTAMP:20260422T030526
CREATED:20240925T170308Z
LAST-MODIFIED:20240925T170308Z
UID:10000083-1729098000-1729105200@www.wlj.net
SUMMARY:NILE On The Rocks Embryo Sale
DESCRIPTION:
URL:https://www.wlj.net/event/nile-on-the-rocks-embryo-sale/
LOCATION:Montana Pavilion\, 308 6th Ave. N.\, Billings\, MT\, United States
CATEGORIES:Female Sales
GEO:45.7965003;-108.4752479
X-APPLE-STRUCTURED-LOCATION;VALUE=URI;X-ADDRESS=Montana Pavilion 308 6th Ave. N. Billings MT United States;X-APPLE-RADIUS=500;X-TITLE=308 6th Ave. N.:geo:-108.4752479,45.7965003
END:VEVENT
BEGIN:VEVENT
DTSTART;VALUE=DATE:20241017
DTEND;VALUE=DATE:20241018
DTSTAMP:20260422T030526
CREATED:20241017T183515Z
LAST-MODIFIED:20241017T183515Z
UID:10000104-1729123200-1729209599@www.wlj.net
SUMMARY:Thomas Angus Ranch Production Sale
DESCRIPTION:
URL:https://www.wlj.net/event/thomas-angus-ranch-production-sale/
LOCATION:Baker City\, OR\, Baker City\, OR\, United States
END:VEVENT
BEGIN:VEVENT
DTSTART;TZID=America/Denver:20241018T130000
DTEND;TZID=America/Denver:20241018T150000
DTSTAMP:20260422T030526
CREATED:20240924T232133Z
LAST-MODIFIED:20240924T232133Z
UID:10000075-1729256400-1729263600@www.wlj.net
SUMMARY:NILE Red Angus Female Sale
DESCRIPTION:
URL:https://www.wlj.net/event/nile-red-angus-female-sale/
LOCATION:Montana Pavilion\, 308 6th Ave. N.\, Billings\, MT\, United States
CATEGORIES:Female Sales
GEO:45.7965003;-108.4752479
X-APPLE-STRUCTURED-LOCATION;VALUE=URI;X-ADDRESS=Montana Pavilion 308 6th Ave. N. Billings MT United States;X-APPLE-RADIUS=500;X-TITLE=308 6th Ave. N.:geo:-108.4752479,45.7965003
END:VEVENT
BEGIN:VEVENT
DTSTART;TZID=America/Denver:20241018T173000
DTEND;TZID=America/Denver:20241018T190000
DTSTAMP:20260422T030526
CREATED:20240925T165538Z
LAST-MODIFIED:20240925T165538Z
UID:10000081-1729272600-1729278000@www.wlj.net
SUMMARY:NILE Angus Sale
DESCRIPTION:
URL:https://www.wlj.net/event/nile-angus-sale/
LOCATION:Montana Pavilion\, 308 6th Ave. N.\, Billings\, MT\, United States
CATEGORIES:Female Sales
GEO:45.7965003;-108.4752479
X-APPLE-STRUCTURED-LOCATION;VALUE=URI;X-ADDRESS=Montana Pavilion 308 6th Ave. N. Billings MT United States;X-APPLE-RADIUS=500;X-TITLE=308 6th Ave. N.:geo:-108.4752479,45.7965003
END:VEVENT
BEGIN:VEVENT
DTSTART;VALUE=DATE:20241019
DTEND;VALUE=DATE:20241020
DTSTAMP:20260422T030526
CREATED:20241017T183629Z
LAST-MODIFIED:20241017T183629Z
UID:10000105-1729296000-1729382399@www.wlj.net
SUMMARY:Fink Beef Genetics Bull Sale
DESCRIPTION:
URL:https://www.wlj.net/event/fink-beef-genetics-bull-sale/
LOCATION:Randolph\, KS\, Randolph\, KS\, United States
END:VEVENT
END:VCALENDAR