BEGIN:VCALENDAR
VERSION:2.0
PRODID:-//Western Livestock Journal - ECPv6.15.20//NONSGML v1.0//EN
CALSCALE:GREGORIAN
METHOD:PUBLISH
X-ORIGINAL-URL:https://www.wlj.net
X-WR-CALDESC:Events for Western Livestock Journal
REFRESH-INTERVAL;VALUE=DURATION:PT1H
X-Robots-Tag:noindex
X-PUBLISHED-TTL:PT1H
BEGIN:VTIMEZONE
TZID:America/Los_Angeles
BEGIN:DAYLIGHT
TZOFFSETFROM:-0800
TZOFFSETTO:-0700
TZNAME:PDT
DTSTART:20250309T100000
END:DAYLIGHT
BEGIN:STANDARD
TZOFFSETFROM:-0700
TZOFFSETTO:-0800
TZNAME:PST
DTSTART:20251102T090000
END:STANDARD
BEGIN:DAYLIGHT
TZOFFSETFROM:-0800
TZOFFSETTO:-0700
TZNAME:PDT
DTSTART:20260308T100000
END:DAYLIGHT
BEGIN:STANDARD
TZOFFSETFROM:-0700
TZOFFSETTO:-0800
TZNAME:PST
DTSTART:20261101T090000
END:STANDARD
BEGIN:DAYLIGHT
TZOFFSETFROM:-0800
TZOFFSETTO:-0700
TZNAME:PDT
DTSTART:20270314T100000
END:DAYLIGHT
BEGIN:STANDARD
TZOFFSETFROM:-0700
TZOFFSETTO:-0800
TZNAME:PST
DTSTART:20271107T090000
END:STANDARD
END:VTIMEZONE
BEGIN:VTIMEZONE
TZID:America/Denver
BEGIN:DAYLIGHT
TZOFFSETFROM:-0700
TZOFFSETTO:-0600
TZNAME:MDT
DTSTART:20250309T090000
END:DAYLIGHT
BEGIN:STANDARD
TZOFFSETFROM:-0600
TZOFFSETTO:-0700
TZNAME:MST
DTSTART:20251102T080000
END:STANDARD
BEGIN:DAYLIGHT
TZOFFSETFROM:-0700
TZOFFSETTO:-0600
TZNAME:MDT
DTSTART:20260308T090000
END:DAYLIGHT
BEGIN:STANDARD
TZOFFSETFROM:-0600
TZOFFSETTO:-0700
TZNAME:MST
DTSTART:20261101T080000
END:STANDARD
BEGIN:DAYLIGHT
TZOFFSETFROM:-0700
TZOFFSETTO:-0600
TZNAME:MDT
DTSTART:20270314T090000
END:DAYLIGHT
BEGIN:STANDARD
TZOFFSETFROM:-0600
TZOFFSETTO:-0700
TZNAME:MST
DTSTART:20271107T080000
END:STANDARD
END:VTIMEZONE
BEGIN:VEVENT
DTSTART;TZID=America/Los_Angeles:20260711T120000
DTEND;TZID=America/Los_Angeles:20260711T170000
DTSTAMP:20260422T045052
CREATED:20260417T193100Z
LAST-MODIFIED:20260417T193100Z
UID:10000797-1783771200-1783789200@www.wlj.net
SUMMARY:High Desert Quarter Horse Sale
DESCRIPTION:
URL:https://www.wlj.net/event/high-desert-quarter-horse-sale-2/
LOCATION:Redmond\, OR\, Redmond\, OR\, 97756\, United States
CATEGORIES:Breeds,Horse,Horse Sales,Sales
END:VEVENT
BEGIN:VEVENT
DTSTART;VALUE=DATE:20260713
DTEND;VALUE=DATE:20260716
DTSTAMP:20260422T045052
CREATED:20260323T184445Z
LAST-MODIFIED:20260323T184445Z
UID:10000773-1783900800-1784159999@www.wlj.net
SUMMARY:Western Video Market Sale
DESCRIPTION:
URL:https://www.wlj.net/event/western-video-market-sale-3/
LOCATION:Silver Legacy Casino; Reno\, NV\, Reno\, NV\, United States
CATEGORIES:Breeds,Commercial,Sales
GEO:39.529919;-119.8142691
END:VEVENT
BEGIN:VEVENT
DTSTART;TZID=America/Los_Angeles:20260725T080000
DTEND;TZID=America/Los_Angeles:20260725T170000
DTSTAMP:20260422T045052
CREATED:20260417T193828Z
LAST-MODIFIED:20260417T193828Z
UID:10000801-1784966400-1784998800@www.wlj.net
SUMMARY:CLM Fall Bred Female Special
DESCRIPTION:
URL:https://www.wlj.net/event/clm-fall-bred-female-special/
LOCATION:Cattlemen’s Livestock Market\, 12495 Stockton Blvd\, Galt\, CA\, 95632\, United States
CATEGORIES:Breeds,Commercial,Female Sales,Sales
GEO:38.3041589;-121.3170785
X-APPLE-STRUCTURED-LOCATION;VALUE=URI;X-ADDRESS=Cattlemen’s Livestock Market 12495 Stockton Blvd Galt CA 95632 United States;X-APPLE-RADIUS=500;X-TITLE=12495 Stockton Blvd:geo:-121.3170785,38.3041589
END:VEVENT
BEGIN:VEVENT
DTSTART;TZID=America/Los_Angeles:20260801T080000
DTEND;TZID=America/Los_Angeles:20260801T170000
DTSTAMP:20260422T045052
CREATED:20260417T194142Z
LAST-MODIFIED:20260417T194142Z
UID:10000803-1785571200-1785603600@www.wlj.net
SUMMARY:TLAY California Fall Bred Female Sale
DESCRIPTION:
URL:https://www.wlj.net/event/tlay-california-fall-bred-female-sale/
LOCATION:Turlock\, CA\, 10430 N Lander Ave\, Turlock\, CA\, United States
CATEGORIES:Breeds,Commercial,Female Sales,Sales
GEO:37.439327;-120.8488429
X-APPLE-STRUCTURED-LOCATION;VALUE=URI;X-ADDRESS=Turlock CA 10430 N Lander Ave Turlock CA United States;X-APPLE-RADIUS=500;X-TITLE=10430 N Lander Ave:geo:-120.8488429,37.439327
END:VEVENT
BEGIN:VEVENT
DTSTART;TZID=America/Los_Angeles:20260822T120000
DTEND;TZID=America/Los_Angeles:20260822T170000
DTSTAMP:20260422T045052
CREATED:20260417T193228Z
LAST-MODIFIED:20260417T193228Z
UID:10000798-1787400000-1787418000@www.wlj.net
SUMMARY:Memory Ranches Foal Sale
DESCRIPTION:
URL:https://www.wlj.net/event/memory-ranches-foal-sale/
LOCATION:Wells\, NV\, Wells\, NV\, 89835\, United States
CATEGORIES:Breeds,Horse,Horse Sales,Sales
GEO:41.1115888;-114.96449
END:VEVENT
BEGIN:VEVENT
DTSTART;VALUE=DATE:20260915
DTEND;VALUE=DATE:20260918
DTSTAMP:20260422T045052
CREATED:20260306T141507Z
LAST-MODIFIED:20260306T141507Z
UID:10000765-1789430400-1789689599@www.wlj.net
SUMMARY:Stockmanship & Stewardship event
DESCRIPTION:The Stockmanship & Stewardship event in Grand Island\, NE\, will help ranchers gain practical\, hands-on knowledge that strengthens animal care\, enhances cattle handling skills and supports the sustainability of their operations.
URL:https://www.wlj.net/event/stockmanship-stewardship-event-2/
LOCATION:NE
CATEGORIES:Coming Events
END:VEVENT
END:VCALENDAR