BEGIN:VCALENDAR
VERSION:2.0
PRODID:-//Western Livestock Journal - ECPv6.15.20//NONSGML v1.0//EN
CALSCALE:GREGORIAN
METHOD:PUBLISH
X-WR-CALNAME:Western Livestock Journal
X-ORIGINAL-URL:https://www.wlj.net
X-WR-CALDESC:Events for Western Livestock Journal
REFRESH-INTERVAL;VALUE=DURATION:PT1H
X-Robots-Tag:noindex
X-PUBLISHED-TTL:PT1H
BEGIN:VTIMEZONE
TZID:UTC
BEGIN:STANDARD
TZOFFSETFROM:+0000
TZOFFSETTO:+0000
TZNAME:UTC
DTSTART:20230101T000000
END:STANDARD
END:VTIMEZONE
BEGIN:VTIMEZONE
TZID:America/Los_Angeles
BEGIN:DAYLIGHT
TZOFFSETFROM:-0800
TZOFFSETTO:-0700
TZNAME:PDT
DTSTART:20230312T100000
END:DAYLIGHT
BEGIN:STANDARD
TZOFFSETFROM:-0700
TZOFFSETTO:-0800
TZNAME:PST
DTSTART:20231105T090000
END:STANDARD
BEGIN:DAYLIGHT
TZOFFSETFROM:-0800
TZOFFSETTO:-0700
TZNAME:PDT
DTSTART:20240310T100000
END:DAYLIGHT
BEGIN:STANDARD
TZOFFSETFROM:-0700
TZOFFSETTO:-0800
TZNAME:PST
DTSTART:20241103T090000
END:STANDARD
BEGIN:DAYLIGHT
TZOFFSETFROM:-0800
TZOFFSETTO:-0700
TZNAME:PDT
DTSTART:20250309T100000
END:DAYLIGHT
BEGIN:STANDARD
TZOFFSETFROM:-0700
TZOFFSETTO:-0800
TZNAME:PST
DTSTART:20251102T090000
END:STANDARD
END:VTIMEZONE
BEGIN:VTIMEZONE
TZID:America/Denver
BEGIN:DAYLIGHT
TZOFFSETFROM:-0700
TZOFFSETTO:-0600
TZNAME:MDT
DTSTART:20230312T090000
END:DAYLIGHT
BEGIN:STANDARD
TZOFFSETFROM:-0600
TZOFFSETTO:-0700
TZNAME:MST
DTSTART:20231105T080000
END:STANDARD
BEGIN:DAYLIGHT
TZOFFSETFROM:-0700
TZOFFSETTO:-0600
TZNAME:MDT
DTSTART:20240310T090000
END:DAYLIGHT
BEGIN:STANDARD
TZOFFSETFROM:-0600
TZOFFSETTO:-0700
TZNAME:MST
DTSTART:20241103T080000
END:STANDARD
BEGIN:DAYLIGHT
TZOFFSETFROM:-0700
TZOFFSETTO:-0600
TZNAME:MDT
DTSTART:20250309T090000
END:DAYLIGHT
BEGIN:STANDARD
TZOFFSETFROM:-0600
TZOFFSETTO:-0700
TZNAME:MST
DTSTART:20251102T080000
END:STANDARD
END:VTIMEZONE
BEGIN:VEVENT
DTSTART;TZID=UTC:20240518T000000
DTEND;TZID=UTC:20240518T235900
DTSTAMP:20260422T045648
CREATED:20240515T001501Z
LAST-MODIFIED:20240614T204259Z
UID:10000025-1715990400-1716076740@www.wlj.net
SUMMARY:Redtail Ranch\, Performance Horse & Equipment Sale\, Star\, ID
DESCRIPTION:May 18 – Redtail Ranch\, Performance Horse & Equipment Sale\, Star\, ID
URL:https://www.wlj.net/event/redtail-ranch-performance-horse-equipment-sale-star-id/
LOCATION:Star\, ID\, Star\, 83669\, United States
CATEGORIES:Horse Sales,Sales
END:VEVENT
BEGIN:VEVENT
DTSTART;TZID=UTC:20240518T000000
DTEND;TZID=UTC:20240518T235900
DTSTAMP:20260422T045648
CREATED:20240515T001501Z
LAST-MODIFIED:20240522T151324Z
UID:10000026-1715990400-1716076740@www.wlj.net
SUMMARY:Feather River College\, Horse Sale\, Quincy\, CA
DESCRIPTION:May 18 – Feather River College\, Horse Sale\, Quincy\, CA
URL:https://www.wlj.net/event/feather-river-college-horse-sale-quincy-ca/
LOCATION:Quincy\, CA\, Quincy\, CA\, 95971\, United States
CATEGORIES:Horse Sales,Sales
END:VEVENT
BEGIN:VEVENT
DTSTART;TZID=UTC:20240525T000000
DTEND;TZID=UTC:20240525T235900
DTSTAMP:20260422T045648
CREATED:20240515T001501Z
LAST-MODIFIED:20240614T204339Z
UID:10000024-1716595200-1716681540@www.wlj.net
SUMMARY:Bar R Wagyu\, Production Sale\, Pullman\, WA
DESCRIPTION:May 25 – Bar R Wagyu\, Production Sale\, Pullman\, WA
URL:https://www.wlj.net/event/bar-r-wagyu-production-sale-pullman-wa/
LOCATION:Pullman\, WA\, Pullman\, 99163\, United States
CATEGORIES:Sales
END:VEVENT
BEGIN:VEVENT
DTSTART;TZID=UTC:20240525T000000
DTEND;TZID=UTC:20240525T235900
DTSTAMP:20260422T045648
CREATED:20240515T001500Z
LAST-MODIFIED:20240522T151325Z
UID:10000023-1716595200-1716681540@www.wlj.net
SUMMARY:Full House Horse Sale\, Newcastle\, WY
DESCRIPTION:May 25 – Full House Horse Sale\, Newcastle\, WY
URL:https://www.wlj.net/event/full-house-horse-sale-newcastle-wy/
LOCATION:Newcastle\, WY\, Newcastle\, 82701\, United States
CATEGORIES:Horse Sales,Sales
END:VEVENT
BEGIN:VEVENT
DTSTART;TZID=UTC:20240601T000000
DTEND;TZID=UTC:20240601T235900
DTSTAMP:20260422T045648
CREATED:20240515T001500Z
LAST-MODIFIED:20240528T153848Z
UID:10000022-1717200000-1717286340@www.wlj.net
SUMMARY:Ranchers Horse Sale\, Juntura\, OR
DESCRIPTION:Jun. 1 — Ranchers Horse Sale\, Juntura\, OR
URL:https://www.wlj.net/event/ranchers-horse-sale-juntura-or/
LOCATION:Juntura\, OR\, Juntura\, OR\, 97911\, United States
CATEGORIES:Horse Sales,Sales
END:VEVENT
BEGIN:VEVENT
DTSTART;TZID=UTC:20240608T000000
DTEND;TZID=UTC:20240608T235900
DTSTAMP:20260422T045648
CREATED:20240515T001447Z
LAST-MODIFIED:20240522T151325Z
UID:10000021-1717804800-1717891140@www.wlj.net
SUMMARY:Shelman Family Horse Sale\, Burns\, OR
DESCRIPTION:Jun. 8 — Shelman Family Horse Sale\, Burns\, OR
URL:https://www.wlj.net/event/shelman-family-horse-sale-burns-or/
LOCATION:Burns\, OR\, Burns\, OR\, 97720\, United States
CATEGORIES:Horse Sales,Sales
END:VEVENT
BEGIN:VEVENT
DTSTART;TZID=UTC:20240620T000000
DTEND;TZID=UTC:20240622T235900
DTSTAMP:20260422T045648
CREATED:20240515T001446Z
LAST-MODIFIED:20240823T195938Z
UID:10000020-1718841600-1719100740@www.wlj.net
SUMMARY:NLVA\, Early Summer Special\, Billings\, MT
DESCRIPTION:Jun. 20 — NLVA\, Early Summer Special\, Billings\, MT
URL:https://www.wlj.net/event/nlva-early-summer-special-billings-mt/
LOCATION:Billings\, MT\, Billings\, MT\, 59101\, United States
CATEGORIES:Production Sales,Sales
GEO:45.7827769;-108.5045938
END:VEVENT
BEGIN:VEVENT
DTSTART;TZID=UTC:20240622T000000
DTEND;TZID=UTC:20240622T235900
DTSTAMP:20260422T045648
CREATED:20240515T001446Z
LAST-MODIFIED:20240614T204537Z
UID:10000019-1719014400-1719100740@www.wlj.net
SUMMARY:Fort Ranch Horse Sale\, Corinne\, UT
DESCRIPTION:Jun. 22 — Fort Ranch Horse Sale\, Corrinne\, UT
URL:https://www.wlj.net/event/fort-ranch-horse-sale-corinne-ut/
LOCATION:Corinne\, UT\, Corinne\, UT\, 84307\, United States
CATEGORIES:Horse Sales,Sales
END:VEVENT
BEGIN:VEVENT
DTSTART;TZID=UTC:20240629T000000
DTEND;TZID=UTC:20240629T235900
DTSTAMP:20260422T045648
CREATED:20240515T001445Z
LAST-MODIFIED:20240823T195931Z
UID:10000018-1719619200-1719705540@www.wlj.net
SUMMARY:EZ Angus Ranch\, Dispersal Sale\, Madras\, OR
DESCRIPTION:Jun. 29 – EZ Angus Ranch\, Dispersal Sale\, Madras\, OR
URL:https://www.wlj.net/event/ez-angus-ranch-dispersal-sale-madras-or/
LOCATION:Madras\, OR\, 3457 US-97\, Madras\, OR\, 97741\, United States
CATEGORIES:Production Sales,Sales
ATTACH;FMTTYPE=image/webp:https://www.wlj.net/wp-content/uploads/2024/05/ez-angus-copy.webp
GEO:44.5856809;-121.1508586
X-APPLE-STRUCTURED-LOCATION;VALUE=URI;X-ADDRESS=Madras OR 3457 US-97 Madras OR 97741 United States;X-APPLE-RADIUS=500;X-TITLE=3457 US-97:geo:-121.1508586,44.5856809
END:VEVENT
BEGIN:VEVENT
DTSTART;TZID=UTC:20240708T000000
DTEND;TZID=UTC:20240708T235900
DTSTAMP:20260422T045648
CREATED:20240515T001445Z
LAST-MODIFIED:20240823T195926Z
UID:10000017-1720396800-1720483140@www.wlj.net
SUMMARY:Western Video Market\, Reno Sale\, Reno\, NV
DESCRIPTION:Jul. 8 — Western Video Market\, Reno Sale\, Reno\, NV
URL:https://www.wlj.net/event/western-video-market-reno-sale-reno-nv/
LOCATION:Reno\, NV\, 1350 N Wls Ave\, Reno\, NV\, 89512\, United States
CATEGORIES:Production Sales,Sales
GEO:39.5430485;-119.801976
X-APPLE-STRUCTURED-LOCATION;VALUE=URI;X-ADDRESS=Reno NV 1350 N Wls Ave Reno NV 89512 United States;X-APPLE-RADIUS=500;X-TITLE=1350 N Wls Ave:geo:-119.801976,39.5430485
END:VEVENT
BEGIN:VEVENT
DTSTART;TZID=UTC:20240712T000000
DTEND;TZID=UTC:20240712T235900
DTSTAMP:20260422T045648
CREATED:20240515T001431Z
LAST-MODIFIED:20240522T151326Z
UID:10000016-1720742400-1720828740@www.wlj.net
SUMMARY:High Desert\, Quarter Horse Sale\, Redmond\, OR
DESCRIPTION:Jul. 12 — High Desert\, Quarter Horse Sale\, Redmond\, OR
URL:https://www.wlj.net/event/high-desert-quarter-horse-sale-redmond-or/
LOCATION:Redmond\, OR\, Redmond\, OR\, 97756\, United States
CATEGORIES:Horse Sales,Sales
END:VEVENT
BEGIN:VEVENT
DTSTART;TZID=UTC:20240722T000000
DTEND;TZID=UTC:20240722T235900
DTSTAMP:20260422T045648
CREATED:20240515T001431Z
LAST-MODIFIED:20240823T195919Z
UID:10000015-1721606400-1721692740@www.wlj.net
SUMMARY:NLVA\, Summertime Classic\, Billings\, MT
DESCRIPTION:Jul. 22 — NLVA\, Summertime Classic\, Billings\, MT
URL:https://www.wlj.net/event/nlva-summertime-classic-billings-mt/
LOCATION:Billings\, MT\, Billings\, MT\, 59101\, United States
CATEGORIES:Production Sales,Sales
GEO:45.7827769;-108.5045938
END:VEVENT
BEGIN:VEVENT
DTSTART;TZID=UTC:20240727T000000
DTEND;TZID=UTC:20240727T235900
DTSTAMP:20260422T045648
CREATED:20240515T001431Z
LAST-MODIFIED:20240614T204348Z
UID:10000014-1722038400-1722124740@www.wlj.net
SUMMARY:Cattlemen’s Livestock Market\, Annual Female Sale\, Galt\, CA
DESCRIPTION:Jul. 27 — Cattlemen’s Livestock Market\, Annual Female Sale\, Galt\, CA
URL:https://www.wlj.net/event/cattlemens-livestock-market-annual-female-sale-galt-ca/
LOCATION:Galt\, CA\, Galt\, CA\, 95632\, United States
CATEGORIES:Female Sales,Sales
END:VEVENT
BEGIN:VEVENT
DTSTART;TZID=UTC:20240803T000000
DTEND;TZID=UTC:20240803T235900
DTSTAMP:20260422T045648
CREATED:20240515T001430Z
LAST-MODIFIED:20240614T204119Z
UID:10000013-1722643200-1722729540@www.wlj.net
SUMMARY:Turlock Livestock Auction\, Special Female Sale\, Turlock\, CA
DESCRIPTION:Aug. 3 — Turlock Livestock Auction\, Special Female Sale\, Turlock\, CA
URL:https://www.wlj.net/event/turlock-livestock-auction-special-female-sale-turlock-ca/
LOCATION:Turlock\, CA\, 10430 N Lander Ave\, Turlock\, CA\, United States
CATEGORIES:Female Sales,Sales
GEO:37.439327;-120.8488429
X-APPLE-STRUCTURED-LOCATION;VALUE=URI;X-ADDRESS=Turlock CA 10430 N Lander Ave Turlock CA United States;X-APPLE-RADIUS=500;X-TITLE=10430 N Lander Ave:geo:-120.8488429,37.439327
END:VEVENT
BEGIN:VEVENT
DTSTART;TZID=UTC:20240812T000000
DTEND;TZID=UTC:20240812T235900
DTSTAMP:20260422T045648
CREATED:20240515T001430Z
LAST-MODIFIED:20240823T195855Z
UID:10000012-1723420800-1723507140@www.wlj.net
SUMMARY:Western Video Market\, Cheyenne Sale\, Cheyenne\, WY
DESCRIPTION:Aug. 12 — Western Video Market\, Cheyenne Sale\, Cheyenne\, WY
URL:https://www.wlj.net/event/western-video-market-cheyenne-sale-cheyenne-wy/
LOCATION:Cheyenne\, WY\, Cheyenne\, WY\, 82001\, United States
CATEGORIES:Production Sales,Sales
GEO:41.1347435;-104.8211901
END:VEVENT
BEGIN:VEVENT
DTSTART;TZID=UTC:20240817T000000
DTEND;TZID=UTC:20240817T235900
DTSTAMP:20260422T045648
CREATED:20240515T001416Z
LAST-MODIFIED:20240614T204113Z
UID:10000011-1723852800-1723939140@www.wlj.net
SUMMARY:Memory Ranch\, Foal Sale\, Wells\, NV
DESCRIPTION:Aug. 17 — Memory Ranch\, Foal Sale\, Wells\, NV
URL:https://www.wlj.net/event/memory-ranch-foal-sale-wells-nv/
LOCATION:Wells\, NV\, Wells\, NV\, 89835\, United States
CATEGORIES:Horse Sales,Sales
GEO:41.1115888;-114.96449
END:VEVENT
BEGIN:VEVENT
DTSTART;TZID=UTC:20240819T000000
DTEND;TZID=UTC:20240819T235900
DTSTAMP:20260422T045648
CREATED:20240515T001416Z
LAST-MODIFIED:20240614T204105Z
UID:10000010-1724025600-1724111940@www.wlj.net
SUMMARY:NLVA\, Early Fall Preview\, Billings\, MT
DESCRIPTION:Aug. 19 — NLVA\, Early Fall Preview\, Billings\, MT
URL:https://www.wlj.net/event/nlva-early-fall-preview-billings-mt/
LOCATION:Billings\, MT\, Billings\, MT\, 59101\, United States
CATEGORIES:Bull Sales,Sales
GEO:45.7827769;-108.5045938
END:VEVENT
BEGIN:VEVENT
DTSTART;TZID=UTC:20240824T000000
DTEND;TZID=UTC:20240824T235900
DTSTAMP:20260422T045648
CREATED:20240515T001416Z
LAST-MODIFIED:20240614T204057Z
UID:10000009-1724457600-1724543940@www.wlj.net
SUMMARY:Mobile Cattle Marketing\, Female Sale\, Petaluma\, CA
DESCRIPTION:Aug. 24 — Mobile Cattle Marketing\, Female Sale\, Petaluma\, CA
URL:https://www.wlj.net/event/mobile-cattle-marketing-female-sale-petaluma-ca/
LOCATION:Petaluma\, CA\, Petaluma\, CA\, 94952\, United States
CATEGORIES:Female Sales,Sales
END:VEVENT
BEGIN:VEVENT
DTSTART;TZID=America/Los_Angeles:20240905T120000
DTEND;TZID=America/Los_Angeles:20240905T170000
DTSTAMP:20260422T045648
CREATED:20240903T181526Z
LAST-MODIFIED:20240903T181526Z
UID:10000029-1725537600-1725555600@www.wlj.net
SUMMARY:Sierra Ranches Annual Bull Sale
DESCRIPTION:
URL:https://www.wlj.net/event/sierra-ranches-annual-bull-sale/
LOCATION:La Grange\, CA\, 1771 Hwy 132\, La Grange\, CA\, 95329\, United States
CATEGORIES:Bull Sales
GEO:37.650022;-120.378345
X-APPLE-STRUCTURED-LOCATION;VALUE=URI;X-ADDRESS=La Grange CA 1771 Hwy 132 La Grange CA 95329 United States;X-APPLE-RADIUS=500;X-TITLE=1771 Hwy 132:geo:-120.378345,37.650022
END:VEVENT
BEGIN:VEVENT
DTSTART;TZID=America/Los_Angeles:20240905T120000
DTEND;TZID=America/Los_Angeles:20240905T170000
DTSTAMP:20260422T045648
CREATED:20240903T180455Z
LAST-MODIFIED:20240903T181050Z
UID:10000028-1725537600-1725555600@www.wlj.net
SUMMARY:Vintage Angus Ranch Bull Sale
DESCRIPTION:
URL:https://www.wlj.net/event/vintage-angus-ranch-bull-sale/
LOCATION:La Grange\, CA\, 1771 Hwy 132\, La Grange\, CA\, 95329\, United States
CATEGORIES:Bull Sales,Sales
GEO:37.650022;-120.378345
X-APPLE-STRUCTURED-LOCATION;VALUE=URI;X-ADDRESS=La Grange CA 1771 Hwy 132 La Grange CA 95329 United States;X-APPLE-RADIUS=500;X-TITLE=1771 Hwy 132:geo:-120.378345,37.650022
END:VEVENT
BEGIN:VEVENT
DTSTART;TZID=America/Los_Angeles:20240906T120000
DTEND;TZID=America/Los_Angeles:20240906T170000
DTSTAMP:20260422T045648
CREATED:20240903T182038Z
LAST-MODIFIED:20240904T020244Z
UID:10000030-1725624000-1725642000@www.wlj.net
SUMMARY:Byrd Cattle Co. Distinctly Different Sale
DESCRIPTION:
URL:https://www.wlj.net/event/byrd-cattle-co-distinctly-different-sale/
LOCATION:Los Molinos\, CA\, 7189 Tehama Vina Rd\, Los Molinos\, CA\, 96080\, United States
CATEGORIES:Production Sales
GEO:40.0042773;-122.0777247
X-APPLE-STRUCTURED-LOCATION;VALUE=URI;X-ADDRESS=Los Molinos CA 7189 Tehama Vina Rd Los Molinos CA 96080 United States;X-APPLE-RADIUS=500;X-TITLE=7189 Tehama Vina Rd:geo:-122.0777247,40.0042773
END:VEVENT
BEGIN:VEVENT
DTSTART;TZID=America/Los_Angeles:20240907T123000
DTEND;TZID=America/Los_Angeles:20240907T170000
DTSTAMP:20260422T045648
CREATED:20240903T183218Z
LAST-MODIFIED:20240903T184648Z
UID:10000031-1725712200-1725728400@www.wlj.net
SUMMARY:EZ Angus Ranch Fall Bull Sale
DESCRIPTION:
URL:https://www.wlj.net/event/ez-angus-ranch-fall-bull-sale/
LOCATION:Farmington\, CA\, 22950 Milton Rd\, Farmington\, CA\, 95230\, United States
CATEGORIES:Bull Sales
GEO:37.9735855;-120.8430349
X-APPLE-STRUCTURED-LOCATION;VALUE=URI;X-ADDRESS=Farmington CA 22950 Milton Rd Farmington CA 95230 United States;X-APPLE-RADIUS=500;X-TITLE=22950 Milton Rd:geo:-120.8430349,37.9735855
END:VEVENT
BEGIN:VEVENT
DTSTART;TZID=America/Los_Angeles:20240908T130000
DTEND;TZID=America/Los_Angeles:20240908T170000
DTSTAMP:20260422T045648
CREATED:20240903T184557Z
LAST-MODIFIED:20240903T184557Z
UID:10000032-1725800400-1725814800@www.wlj.net
SUMMARY:The Heritage Bull Sale
DESCRIPTION:
URL:https://www.wlj.net/event/the-heritage-bull-sale/
LOCATION:Wilton\, CA\, 13550 Meiss Rd\, Wilton\, CA\, 95683\, United States
CATEGORIES:Bull Sales
GEO:38.4619311;-121.1533206
X-APPLE-STRUCTURED-LOCATION;VALUE=URI;X-ADDRESS=Wilton CA 13550 Meiss Rd Wilton CA 95683 United States;X-APPLE-RADIUS=500;X-TITLE=13550 Meiss Rd:geo:-121.1533206,38.4619311
END:VEVENT
BEGIN:VEVENT
DTSTART;TZID=America/Los_Angeles:20240909T100000
DTEND;TZID=America/Los_Angeles:20240909T170000
DTSTAMP:20260422T045648
CREATED:20240903T201542Z
LAST-MODIFIED:20240903T201542Z
UID:10000034-1725876000-1725901200@www.wlj.net
SUMMARY:Rhoades Ranch Bull and Horse Sale
DESCRIPTION:
URL:https://www.wlj.net/event/rhoades-ranch-bull-and-horse-sale/
LOCATION:Cambria\, CA\, 5082 Santa Rosa Creek Rd\, Cambria\, CA\, United States
CATEGORIES:Bull Sales,Horse Sales
GEO:35.5780744;-121.0209497
X-APPLE-STRUCTURED-LOCATION;VALUE=URI;X-ADDRESS=Cambria CA 5082 Santa Rosa Creek Rd Cambria CA United States;X-APPLE-RADIUS=500;X-TITLE=5082 Santa Rosa Creek Rd:geo:-121.0209497,35.5780744
END:VEVENT
BEGIN:VEVENT
DTSTART;TZID=America/Los_Angeles:20240909T143000
DTEND;TZID=America/Los_Angeles:20240909T170000
DTSTAMP:20260422T045648
CREATED:20240903T185446Z
LAST-MODIFIED:20240903T185446Z
UID:10000033-1725892200-1725901200@www.wlj.net
SUMMARY:Genoa Livestock Annual Production Sale
DESCRIPTION:
URL:https://www.wlj.net/event/genoa-livestock-annual-production-sale/
LOCATION:Minden\, NV\, 640 Genoa Lane\, Minden\, NV\, 89423\, United States
CATEGORIES:Bull Sales
GEO:38.9980825;-119.8024583
X-APPLE-STRUCTURED-LOCATION;VALUE=URI;X-ADDRESS=Minden NV 640 Genoa Lane Minden NV 89423 United States;X-APPLE-RADIUS=500;X-TITLE=640 Genoa Lane:geo:-119.8024583,38.9980825
END:VEVENT
BEGIN:VEVENT
DTSTART;TZID=America/Denver:20240910T120000
DTEND;TZID=America/Denver:20240910T170000
DTSTAMP:20260422T045648
CREATED:20240903T202310Z
LAST-MODIFIED:20240903T202310Z
UID:10000035-1725969600-1725987600@www.wlj.net
SUMMARY:O'Neal Angus Ranch Bull Sale
DESCRIPTION:
URL:https://www.wlj.net/event/oneal-angus-ranch-bull-sale/
LOCATION:O’Neals\, CA\, Madera\, CA\, 93636\, United States
CATEGORIES:Bull Sales
END:VEVENT
BEGIN:VEVENT
DTSTART;TZID=America/Los_Angeles:20240911T130000
DTEND;TZID=America/Los_Angeles:20240911T170000
DTSTAMP:20260422T045648
CREATED:20240903T202652Z
LAST-MODIFIED:20240903T202652Z
UID:10000036-1726059600-1726074000@www.wlj.net
SUMMARY:Teixeira Cattle Co. California Bull Sale
DESCRIPTION:
URL:https://www.wlj.net/event/teixeira-cattle-co-california-bull-sale/
LOCATION:Pismo Beach\, CA\, 855 Thousand Hills Rd\, Pismo Beach\, CA\, 93449\, United States
CATEGORIES:Production Sales
GEO:35.1794246;-120.6594807
X-APPLE-STRUCTURED-LOCATION;VALUE=URI;X-ADDRESS=Pismo Beach CA 855 Thousand Hills Rd Pismo Beach CA 93449 United States;X-APPLE-RADIUS=500;X-TITLE=855 Thousand Hills Rd:geo:-120.6594807,35.1794246
END:VEVENT
BEGIN:VEVENT
DTSTART;TZID=America/Los_Angeles:20240912T130000
DTEND;TZID=America/Los_Angeles:20240912T170000
DTSTAMP:20260422T045648
CREATED:20240903T203128Z
LAST-MODIFIED:20240903T203128Z
UID:10000037-1726146000-1726160400@www.wlj.net
SUMMARY:Donati Ranch with O'Connell Ranch Bull Sale
DESCRIPTION:
URL:https://www.wlj.net/event/donati-ranch-with-oconnell-ranch-bull-sale/
LOCATION:Oroville\, CA\, 3159 Nelson Ave\, Oroville\, CA\, United States
CATEGORIES:Bull Sales
GEO:39.519955;-121.655711
X-APPLE-STRUCTURED-LOCATION;VALUE=URI;X-ADDRESS=Oroville CA 3159 Nelson Ave Oroville CA United States;X-APPLE-RADIUS=500;X-TITLE=3159 Nelson Ave:geo:-121.655711,39.519955
END:VEVENT
BEGIN:VEVENT
DTSTART;TZID=America/Los_Angeles:20240913T130000
DTEND;TZID=America/Los_Angeles:20240913T170000
DTSTAMP:20260422T045648
CREATED:20240903T203738Z
LAST-MODIFIED:20240903T203738Z
UID:10000038-1726232400-1726246800@www.wlj.net
SUMMARY:Tehama Angus Ranch 50th Annual Sale
DESCRIPTION:
URL:https://www.wlj.net/event/tehama-angus-ranch-50th-annual-sale/
LOCATION:Gerber\, CA\, 23820 Tehama Ave\, Gerber\, CA\, United States
CATEGORIES:Production Sales
GEO:40.032207;-122.150826
X-APPLE-STRUCTURED-LOCATION;VALUE=URI;X-ADDRESS=Gerber CA 23820 Tehama Ave Gerber CA United States;X-APPLE-RADIUS=500;X-TITLE=23820 Tehama Ave:geo:-122.150826,40.032207
END:VEVENT
BEGIN:VEVENT
DTSTART;TZID=America/Los_Angeles:20240914T130000
DTEND;TZID=America/Los_Angeles:20240914T170000
DTSTAMP:20260422T045648
CREATED:20240917T212017Z
LAST-MODIFIED:20240917T212017Z
UID:10000043-1726318800-1726333200@www.wlj.net
SUMMARY:Arrellano Bravo Angus Production Sale
DESCRIPTION:
URL:https://www.wlj.net/event/arrellano-bravo-angus-production-sale/
LOCATION:Galt\, CA\, Galt\, CA\, 95632\, United States
CATEGORIES:Production Sales
END:VEVENT
END:VCALENDAR