BEGIN:VCALENDAR
VERSION:2.0
PRODID:-//Western Livestock Journal - ECPv6.15.20//NONSGML v1.0//EN
CALSCALE:GREGORIAN
METHOD:PUBLISH
X-ORIGINAL-URL:https://www.wlj.net
X-WR-CALDESC:Events for Western Livestock Journal
REFRESH-INTERVAL;VALUE=DURATION:PT1H
X-Robots-Tag:noindex
X-PUBLISHED-TTL:PT1H
BEGIN:VTIMEZONE
TZID:America/Los_Angeles
BEGIN:DAYLIGHT
TZOFFSETFROM:-0800
TZOFFSETTO:-0700
TZNAME:PDT
DTSTART:20240310T100000
END:DAYLIGHT
BEGIN:STANDARD
TZOFFSETFROM:-0700
TZOFFSETTO:-0800
TZNAME:PST
DTSTART:20241103T090000
END:STANDARD
BEGIN:DAYLIGHT
TZOFFSETFROM:-0800
TZOFFSETTO:-0700
TZNAME:PDT
DTSTART:20250309T100000
END:DAYLIGHT
BEGIN:STANDARD
TZOFFSETFROM:-0700
TZOFFSETTO:-0800
TZNAME:PST
DTSTART:20251102T090000
END:STANDARD
BEGIN:DAYLIGHT
TZOFFSETFROM:-0800
TZOFFSETTO:-0700
TZNAME:PDT
DTSTART:20260308T100000
END:DAYLIGHT
BEGIN:STANDARD
TZOFFSETFROM:-0700
TZOFFSETTO:-0800
TZNAME:PST
DTSTART:20261101T090000
END:STANDARD
END:VTIMEZONE
BEGIN:VTIMEZONE
TZID:America/Chicago
BEGIN:DAYLIGHT
TZOFFSETFROM:-0600
TZOFFSETTO:-0500
TZNAME:CDT
DTSTART:20240310T080000
END:DAYLIGHT
BEGIN:STANDARD
TZOFFSETFROM:-0500
TZOFFSETTO:-0600
TZNAME:CST
DTSTART:20241103T070000
END:STANDARD
BEGIN:DAYLIGHT
TZOFFSETFROM:-0600
TZOFFSETTO:-0500
TZNAME:CDT
DTSTART:20250309T080000
END:DAYLIGHT
BEGIN:STANDARD
TZOFFSETFROM:-0500
TZOFFSETTO:-0600
TZNAME:CST
DTSTART:20251102T070000
END:STANDARD
BEGIN:DAYLIGHT
TZOFFSETFROM:-0600
TZOFFSETTO:-0500
TZNAME:CDT
DTSTART:20260308T080000
END:DAYLIGHT
BEGIN:STANDARD
TZOFFSETFROM:-0500
TZOFFSETTO:-0600
TZNAME:CST
DTSTART:20261101T070000
END:STANDARD
END:VTIMEZONE
BEGIN:VTIMEZONE
TZID:America/Detroit
BEGIN:DAYLIGHT
TZOFFSETFROM:-0500
TZOFFSETTO:-0400
TZNAME:EDT
DTSTART:20240310T070000
END:DAYLIGHT
BEGIN:STANDARD
TZOFFSETFROM:-0400
TZOFFSETTO:-0500
TZNAME:EST
DTSTART:20241103T060000
END:STANDARD
BEGIN:DAYLIGHT
TZOFFSETFROM:-0500
TZOFFSETTO:-0400
TZNAME:EDT
DTSTART:20250309T070000
END:DAYLIGHT
BEGIN:STANDARD
TZOFFSETFROM:-0400
TZOFFSETTO:-0500
TZNAME:EST
DTSTART:20251102T060000
END:STANDARD
BEGIN:DAYLIGHT
TZOFFSETFROM:-0500
TZOFFSETTO:-0400
TZNAME:EDT
DTSTART:20260308T070000
END:DAYLIGHT
BEGIN:STANDARD
TZOFFSETFROM:-0400
TZOFFSETTO:-0500
TZNAME:EST
DTSTART:20261101T060000
END:STANDARD
END:VTIMEZONE
BEGIN:VTIMEZONE
TZID:America/Denver
BEGIN:DAYLIGHT
TZOFFSETFROM:-0700
TZOFFSETTO:-0600
TZNAME:MDT
DTSTART:20240310T090000
END:DAYLIGHT
BEGIN:STANDARD
TZOFFSETFROM:-0600
TZOFFSETTO:-0700
TZNAME:MST
DTSTART:20241103T080000
END:STANDARD
BEGIN:DAYLIGHT
TZOFFSETFROM:-0700
TZOFFSETTO:-0600
TZNAME:MDT
DTSTART:20250309T090000
END:DAYLIGHT
BEGIN:STANDARD
TZOFFSETFROM:-0600
TZOFFSETTO:-0700
TZNAME:MST
DTSTART:20251102T080000
END:STANDARD
BEGIN:DAYLIGHT
TZOFFSETFROM:-0700
TZOFFSETTO:-0600
TZNAME:MDT
DTSTART:20260308T090000
END:DAYLIGHT
BEGIN:STANDARD
TZOFFSETFROM:-0600
TZOFFSETTO:-0700
TZNAME:MST
DTSTART:20261101T080000
END:STANDARD
END:VTIMEZONE
BEGIN:VEVENT
DTSTART;TZID=America/Los_Angeles:20250201T080000
DTEND;TZID=America/Los_Angeles:20250201T170000
DTSTAMP:20260422T083533
CREATED:20241124T220640Z
LAST-MODIFIED:20241213T045736Z
UID:10000160-1738396800-1738429200@www.wlj.net
SUMMARY:Klamath Fall Bull Sale
DESCRIPTION:
URL:https://www.wlj.net/event/klamath-fall-bull-sale/
LOCATION:Klamath Falls\, OR\, Klamath Falls\, OR\, United States
CATEGORIES:Bull Sales,Sales
END:VEVENT
BEGIN:VEVENT
DTSTART;TZID=America/Chicago:20250201T120000
DTEND;TZID=America/Chicago:20250201T170000
DTSTAMP:20260422T083533
CREATED:20241210T034936Z
LAST-MODIFIED:20241210T044318Z
UID:10000252-1738411200-1738429200@www.wlj.net
SUMMARY:Ellingson Angus
DESCRIPTION:
URL:https://www.wlj.net/event/ellingson-angus/
LOCATION:Ellingson Angus Ranch\, 1905 Co Rd 81\, St Anthony\, ND\, 58566\, United States
CATEGORIES:Angus,Bull Sales,Female Sales,Production Sales,Sales
GEO:46.5315046;-100.8211969
X-APPLE-STRUCTURED-LOCATION;VALUE=URI;X-ADDRESS=Ellingson Angus Ranch 1905 Co Rd 81 St Anthony ND 58566 United States;X-APPLE-RADIUS=500;X-TITLE=1905 Co Rd 81:geo:-100.8211969,46.5315046
END:VEVENT
BEGIN:VEVENT
DTSTART;TZID=America/Detroit:20250201T130000
DTEND;TZID=America/Detroit:20250201T160000
DTSTAMP:20260422T083533
CREATED:20241202T194033Z
LAST-MODIFIED:20241202T194033Z
UID:10000217-1738414800-1738425600@www.wlj.net
SUMMARY:Upstream Ranch Annual Production Sale
DESCRIPTION:
URL:https://www.wlj.net/event/upstream-ranch-annual-production-sale/
LOCATION:Taylor\, NE\, 45060 Upstream Rd\, Taylor\, NE\, 68879\, United States
CATEGORIES:Bull Sales,Production Sales
GEO:41.9829175;-99.4380192
X-APPLE-STRUCTURED-LOCATION;VALUE=URI;X-ADDRESS=Taylor NE 45060 Upstream Rd Taylor NE 68879 United States;X-APPLE-RADIUS=500;X-TITLE=45060 Upstream Rd:geo:-99.4380192,41.9829175
END:VEVENT
BEGIN:VEVENT
DTSTART;TZID=America/Denver:20250201T130000
DTEND;TZID=America/Denver:20250201T170000
DTSTAMP:20260422T083533
CREATED:20241210T040412Z
LAST-MODIFIED:20241210T040412Z
UID:10000253-1738414800-1738429200@www.wlj.net
SUMMARY:Beartooth Angus
DESCRIPTION:
URL:https://www.wlj.net/event/beartooth-angus/
LOCATION:Swift River Ranch\, 4313 Duck Creek Rd\, Billings\, MT\, 59101\, United States
CATEGORIES:Angus,Bull Sales,Sales
GEO:45.6911922;-108.6398594
X-APPLE-STRUCTURED-LOCATION;VALUE=URI;X-ADDRESS=Swift River Ranch 4313 Duck Creek Rd Billings MT 59101 United States;X-APPLE-RADIUS=500;X-TITLE=4313 Duck Creek Rd:geo:-108.6398594,45.6911922
END:VEVENT
BEGIN:VEVENT
DTSTART;TZID=America/Chicago:20250202T130000
DTEND;TZID=America/Chicago:20250202T170000
DTSTAMP:20260422T083533
CREATED:20241210T042732Z
LAST-MODIFIED:20241210T042732Z
UID:10000254-1738501200-1738515600@www.wlj.net
SUMMARY:Frey Angus Ranch
DESCRIPTION:
URL:https://www.wlj.net/event/frey-angus-ranch/
LOCATION:Frey Angus Ranch\, 1219 55th St. N\, Granville\, ND\, 58741\, United States
CATEGORIES:Angus,Bull Sales,Female Sales,Sales
GEO:48.2143085;-100.7607635
X-APPLE-STRUCTURED-LOCATION;VALUE=URI;X-ADDRESS=Frey Angus Ranch 1219 55th St. N Granville ND 58741 United States;X-APPLE-RADIUS=500;X-TITLE=1219 55th St. N:geo:-100.7607635,48.2143085
END:VEVENT
BEGIN:VEVENT
DTSTART;TZID=America/Denver:20250203T120000
DTEND;TZID=America/Denver:20250203T170000
DTSTAMP:20260422T083533
CREATED:20250204T043101Z
LAST-MODIFIED:20241210T043555Z
UID:10000255-1738584000-1738602000@www.wlj.net
SUMMARY:Gateway Simmental
DESCRIPTION:
URL:https://www.wlj.net/event/gateway-simmental/
LOCATION:Gateway Simmental\, 2109 Joyland Rd\, Lewistown\, MT\, 59457\, United States
CATEGORIES:Bull Sales,Sales,Simangus,Simmental
GEO:47.096143;-109.4614346
X-APPLE-STRUCTURED-LOCATION;VALUE=URI;X-ADDRESS=Gateway Simmental 2109 Joyland Rd Lewistown MT 59457 United States;X-APPLE-RADIUS=500;X-TITLE=2109 Joyland Rd:geo:-109.4614346,47.096143
END:VEVENT
BEGIN:VEVENT
DTSTART;TZID=America/Detroit:20250203T130000
DTEND;TZID=America/Detroit:20250203T150000
DTSTAMP:20260422T083533
CREATED:20241202T194645Z
LAST-MODIFIED:20241209T204437Z
UID:10000218-1738587600-1738594800@www.wlj.net
SUMMARY:Taubenheim Gelbvieh Production Sale
DESCRIPTION:
URL:https://www.wlj.net/event/taubenheim-gelbvieh-production-sale/
LOCATION:Amherst\, NE\, 23685 Sortoria Rd\, Amherst\, NE\, 68812\, United States
CATEGORIES:Bull Sales,Gelbvieh
GEO:40.9043175;-99.2157587
X-APPLE-STRUCTURED-LOCATION;VALUE=URI;X-ADDRESS=Amherst NE 23685 Sortoria Rd Amherst NE 68812 United States;X-APPLE-RADIUS=500;X-TITLE=23685 Sortoria Rd:geo:-99.2157587,40.9043175
END:VEVENT
BEGIN:VEVENT
DTSTART;VALUE=DATE:20250204
DTEND;VALUE=DATE:20250207
DTSTAMP:20260422T083533
CREATED:20250110T151153Z
LAST-MODIFIED:20250110T151153Z
UID:10000331-1738627200-1738886399@www.wlj.net
SUMMARY:National Cattlemen’s Beef Association Convention
DESCRIPTION:Feb. 4-6 – The National Cattlemen’s Beef Association Convention will be held in San Antonio\, TX\, at the Henry B. Gonzalez Convention Center. Registration details and more: convention.ncba.org.
URL:https://www.wlj.net/event/national-cattlemens-beef-association-convention/
LOCATION:CA
CATEGORIES:Coming Events
END:VEVENT
BEGIN:VEVENT
DTSTART;TZID=America/Denver:20250204T090000
DTEND;TZID=America/Denver:20250204T170000
DTSTAMP:20260422T083533
CREATED:20241210T043412Z
LAST-MODIFIED:20241210T043412Z
UID:10000256-1738659600-1738688400@www.wlj.net
SUMMARY:PAYs Blue Ribbon II
DESCRIPTION:
URL:https://www.wlj.net/event/pays-blue-ribbon-ii/
LOCATION:Public Auction Yards\, 1802 Minnesota Ave\, Billings\, MT\, United States
CATEGORIES:All Breeds,Female Sales,Sales
GEO:45.7844925;-108.4895617
X-APPLE-STRUCTURED-LOCATION;VALUE=URI;X-ADDRESS=Public Auction Yards 1802 Minnesota Ave Billings MT United States;X-APPLE-RADIUS=500;X-TITLE=1802 Minnesota Ave:geo:-108.4895617,45.7844925
END:VEVENT
BEGIN:VEVENT
DTSTART;TZID=America/Denver:20250205T130000
DTEND;TZID=America/Denver:20250205T150000
DTSTAMP:20260422T083533
CREATED:20241202T195147Z
LAST-MODIFIED:20241202T195147Z
UID:10000219-1738760400-1738767600@www.wlj.net
SUMMARY:Huwa Cattle Bull Sale
DESCRIPTION:
URL:https://www.wlj.net/event/huwa-cattle-bull-sale/
LOCATION:Roggen\, CO\, Roggen\, CO\, United States
CATEGORIES:Bull Sales
END:VEVENT
BEGIN:VEVENT
DTSTART;TZID=America/Denver:20250205T130000
DTEND;TZID=America/Denver:20250205T170000
DTSTAMP:20260422T083533
CREATED:20241210T044105Z
LAST-MODIFIED:20241210T044105Z
UID:10000257-1738760400-1738774800@www.wlj.net
SUMMARY:Durbin Creek Ranch
DESCRIPTION:
URL:https://www.wlj.net/event/durbin-creek-ranch/
LOCATION:Big Horn Basin Livestock Auction\, 1310 County Lane 12\, Worland\, WY\, 82401\, United States
CATEGORIES:Bull Sales,Hereford,Production Sales,Sales
GEO:44.0056589;-107.9711926
X-APPLE-STRUCTURED-LOCATION;VALUE=URI;X-ADDRESS=Big Horn Basin Livestock Auction 1310 County Lane 12 Worland WY 82401 United States;X-APPLE-RADIUS=500;X-TITLE=1310 County Lane 12:geo:-107.9711926,44.0056589
END:VEVENT
BEGIN:VEVENT
DTSTART;TZID=America/Detroit:20250206T130000
DTEND;TZID=America/Detroit:20250206T160000
DTSTAMP:20260422T083533
CREATED:20241202T195515Z
LAST-MODIFIED:20241209T204429Z
UID:10000220-1738846800-1738857600@www.wlj.net
SUMMARY:Bear Mountain Angus Bull Sale
DESCRIPTION:
URL:https://www.wlj.net/event/bear-mountain-angus-bull-sale/
LOCATION:Palisade\, NE\, 35789 Hwy 6\, Palisade\, NE\, 69040\, United States
CATEGORIES:Angus,Bull Sales
GEO:40.3569238;-101.1381811
X-APPLE-STRUCTURED-LOCATION;VALUE=URI;X-ADDRESS=Palisade NE 35789 Hwy 6 Palisade NE 69040 United States;X-APPLE-RADIUS=500;X-TITLE=35789 Hwy 6:geo:-101.1381811,40.3569238
END:VEVENT
BEGIN:VEVENT
DTSTART;TZID=America/Denver:20250206T130000
DTEND;TZID=America/Denver:20250206T170000
DTSTAMP:20260422T083533
CREATED:20241210T044727Z
LAST-MODIFIED:20241210T044727Z
UID:10000258-1738846800-1738861200@www.wlj.net
SUMMARY:Stroh Hereford Ranch
DESCRIPTION:
URL:https://www.wlj.net/event/stroh-hereford-ranch/
LOCATION:Stroh Hereford Ranch\, 1010 Highway 22 South\, Killdeer\, ND\, 58640\, United States
CATEGORIES:Bull Sales,Hereford,Sales
GEO:47.2666968;-102.7522866
X-APPLE-STRUCTURED-LOCATION;VALUE=URI;X-ADDRESS=Stroh Hereford Ranch 1010 Highway 22 South Killdeer ND 58640 United States;X-APPLE-RADIUS=500;X-TITLE=1010 Highway 22 South:geo:-102.7522866,47.2666968
END:VEVENT
BEGIN:VEVENT
DTSTART;TZID=America/Denver:20250207T080000
DTEND;TZID=America/Denver:20250207T170000
DTSTAMP:20260422T083533
CREATED:20241124T221003Z
LAST-MODIFIED:20241209T204357Z
UID:10000162-1738915200-1738947600@www.wlj.net
SUMMARY:Burgess Angus Ranch Bull Sale
DESCRIPTION:
URL:https://www.wlj.net/event/burgess-angus-ranch-bull-sale/
LOCATION:Homedale\, ID\, Homedale\, ID\, United States
CATEGORIES:Angus,Bull Sales,Sales
END:VEVENT
BEGIN:VEVENT
DTSTART;TZID=America/Denver:20250207T120000
DTEND;TZID=America/Denver:20250207T170000
DTSTAMP:20260422T083533
CREATED:20241124T220901Z
LAST-MODIFIED:20250212T153900Z
UID:10000161-1738929600-1738947600@www.wlj.net
SUMMARY:Elkington Polled Hereford Bull & Female Sale
DESCRIPTION:
URL:https://www.wlj.net/event/elkington-polled-hereford-bull-female-sale/
LOCATION:Idaho Falls\, ID\, Idaho Falls\, ID\, 83402\, United States
CATEGORIES:Bull Sales,Female Sales,Hereford,Sales,South Devon
GEO:43.4926602;-112.0407506
END:VEVENT
BEGIN:VEVENT
DTSTART;TZID=America/Detroit:20250207T130000
DTEND;TZID=America/Detroit:20250207T160000
DTSTAMP:20260422T083533
CREATED:20241202T195801Z
LAST-MODIFIED:20241209T204421Z
UID:10000221-1738933200-1738944000@www.wlj.net
SUMMARY:Poss Angus Bull Sale
DESCRIPTION:
URL:https://www.wlj.net/event/poss-angus-bull-sale/
LOCATION:Scotia\, NE\, Scotia\, NE\, United States
CATEGORIES:Angus,Bull Sales
END:VEVENT
BEGIN:VEVENT
DTSTART;TZID=America/Denver:20250207T130000
DTEND;TZID=America/Denver:20250207T170000
DTSTAMP:20260422T083533
CREATED:20241210T044902Z
LAST-MODIFIED:20241210T044902Z
UID:10000259-1738933200-1738947600@www.wlj.net
SUMMARY:TJS Red Angus
DESCRIPTION:
URL:https://www.wlj.net/event/tjs-red-angus/
LOCATION:Buffalo Livestock Marketing\, 44 T W Rd\, Buffalo\, WY\, 82834\, United States
CATEGORIES:Breeds,Bull Sales,Red Angus,Sales
GEO:44.3552428;-106.6577711
X-APPLE-STRUCTURED-LOCATION;VALUE=URI;X-ADDRESS=Buffalo Livestock Marketing 44 T W Rd Buffalo WY 82834 United States;X-APPLE-RADIUS=500;X-TITLE=44 T W Rd:geo:-106.6577711,44.3552428
END:VEVENT
BEGIN:VEVENT
DTSTART;TZID=America/Denver:20250208T100000
DTEND;TZID=America/Denver:20250208T170000
DTSTAMP:20260422T083533
CREATED:20241210T045224Z
LAST-MODIFIED:20241211T052129Z
UID:10000320-1739008800-1739034000@www.wlj.net
SUMMARY:Schaff Angus Valley
DESCRIPTION:
URL:https://www.wlj.net/event/schaff-angus-valley/
LOCATION:Schaff Angus Valley\, 6110 Co Rd 81\, St Anthony\, ND\, 58566\, United States
CATEGORIES:Angus,Breeds,Bull Sales,Female Sales,Production Sales,Sales
GEO:46.5298259;-100.8160031
X-APPLE-STRUCTURED-LOCATION;VALUE=URI;X-ADDRESS=Schaff Angus Valley 6110 Co Rd 81 St Anthony ND 58566 United States;X-APPLE-RADIUS=500;X-TITLE=6110 Co Rd 81:geo:-100.8160031,46.5298259
END:VEVENT
BEGIN:VEVENT
DTSTART;VALUE=DATE:20250209
DTEND;VALUE=DATE:20250214
DTSTAMP:20260422T083533
CREATED:20250110T151319Z
LAST-MODIFIED:20250110T151319Z
UID:10000332-1739059200-1739491199@www.wlj.net
SUMMARY:Society for Range Management 78th Annual Meeting
DESCRIPTION:Feb. 9-13 – The Society for Range Management will hold its 78th Annual Meeting in Spokane\, WA. Details: rangelands.org/annual-meeting-2025.
URL:https://www.wlj.net/event/society-for-range-management-78th-annual-meeting/
LOCATION:CA
CATEGORIES:Coming Events
END:VEVENT
BEGIN:VEVENT
DTSTART;TZID=America/Los_Angeles:20250210T130000
DTEND;TZID=America/Los_Angeles:20250210T170000
DTSTAMP:20260422T083533
CREATED:20241124T221204Z
LAST-MODIFIED:20241124T221204Z
UID:10000163-1739192400-1739206800@www.wlj.net
SUMMARY:BB Cattle Bull Sale
DESCRIPTION:
URL:https://www.wlj.net/event/bb-cattle-bull-sale/
LOCATION:Connell\, WA\, Connell\, WA\, United States
CATEGORIES:Bull Sales,Sales
END:VEVENT
BEGIN:VEVENT
DTSTART;TZID=America/Denver:20250210T130000
DTEND;TZID=America/Denver:20250210T170000
DTSTAMP:20260422T083533
CREATED:20241210T045848Z
LAST-MODIFIED:20241210T045848Z
UID:10000260-1739192400-1739206800@www.wlj.net
SUMMARY:Skyline Angus
DESCRIPTION:
URL:https://www.wlj.net/event/skyline-angus/
LOCATION:Skyline Angus Ranch\, 1447 South Burnt Fork\, Stevensville\, MT\, United States
CATEGORIES:Angus,Breeds,Bull Sales,Sales
GEO:46.471595;-113.9749134
X-APPLE-STRUCTURED-LOCATION;VALUE=URI;X-ADDRESS=Skyline Angus Ranch 1447 South Burnt Fork Stevensville MT United States;X-APPLE-RADIUS=500;X-TITLE=1447 South Burnt Fork:geo:-113.9749134,46.471595
END:VEVENT
BEGIN:VEVENT
DTSTART;TZID=America/Detroit:20250211T120000
DTEND;TZID=America/Detroit:20250211T170000
DTSTAMP:20260422T083533
CREATED:20241202T200124Z
LAST-MODIFIED:20241202T200124Z
UID:10000222-1739275200-1739293200@www.wlj.net
SUMMARY:Werning Cattle Company Production Sale
DESCRIPTION:
URL:https://www.wlj.net/event/werning-cattle-company-production-sale/
LOCATION:Emery\, SD\, Emery\, SD\, United States
CATEGORIES:Bull Sales,Female Sales,Production Sales
END:VEVENT
BEGIN:VEVENT
DTSTART;TZID=America/Denver:20250211T130000
DTEND;TZID=America/Denver:20250211T170000
DTSTAMP:20260422T083533
CREATED:20241124T221311Z
LAST-MODIFIED:20241124T221311Z
UID:10000164-1739278800-1739293200@www.wlj.net
SUMMARY:South Mountain Cattle Bull Sale
DESCRIPTION:
URL:https://www.wlj.net/event/south-mountain-cattle-bull-sale/
LOCATION:Marsing\, ID\, Marsing\, ID\, United States
CATEGORIES:Bull Sales,Sales
END:VEVENT
BEGIN:VEVENT
DTSTART;TZID=America/Denver:20250211T130000
DTEND;TZID=America/Denver:20250211T170000
DTSTAMP:20260422T083533
CREATED:20250211T234518Z
LAST-MODIFIED:20250211T234518Z
UID:10000348-1739278800-1739293200@www.wlj.net
SUMMARY:Ludvigson Stock Farms Big Sky Bull Sale
DESCRIPTION:
URL:https://www.wlj.net/event/ludvigson-stock-farms-big-sky-bull-sale/
LOCATION:Griffell Lot\, 32 Benedict Gulch Rd\, Park City\, MT\, United States
CATEGORIES:Breeds,Bull Sales,Red Angus,Sales
GEO:45.667394;-108.880798
X-APPLE-STRUCTURED-LOCATION;VALUE=URI;X-ADDRESS=Griffell Lot 32 Benedict Gulch Rd Park City MT United States;X-APPLE-RADIUS=500;X-TITLE=32 Benedict Gulch Rd:geo:-108.880798,45.667394
END:VEVENT
BEGIN:VEVENT
DTSTART;TZID=America/Detroit:20250212T130000
DTEND;TZID=America/Detroit:20250212T150000
DTSTAMP:20260422T083533
CREATED:20241202T200439Z
LAST-MODIFIED:20241209T204333Z
UID:10000223-1739365200-1739372400@www.wlj.net
SUMMARY:Jindra Angus Production Sale
DESCRIPTION:
URL:https://www.wlj.net/event/jindra-angus-production-sale/
LOCATION:Clarkson\, NE\, Clarkson\, NE\, United States
CATEGORIES:Angus,Production Sales
END:VEVENT
BEGIN:VEVENT
DTSTART;TZID=America/Detroit:20250212T130000
DTEND;TZID=America/Detroit:20250212T150000
DTSTAMP:20260422T083533
CREATED:20241202T200744Z
LAST-MODIFIED:20241227T152151Z
UID:10000224-1739365200-1739372400@www.wlj.net
SUMMARY:Broberg Charolais Annual Bull Sale
DESCRIPTION:
URL:https://www.wlj.net/event/broberg-charolais-annual-bull-sale/
LOCATION:Tilden\, NE\, Tilden\, NE\, United States
CATEGORIES:Bull Sales,Charolais,Sales
END:VEVENT
BEGIN:VEVENT
DTSTART;TZID=America/Los_Angeles:20250212T130000
DTEND;TZID=America/Los_Angeles:20250212T170000
DTSTAMP:20260422T083533
CREATED:20241124T221428Z
LAST-MODIFIED:20241209T204320Z
UID:10000165-1739365200-1739379600@www.wlj.net
SUMMARY:Meadow Acres Angus Bull Sale
DESCRIPTION:
URL:https://www.wlj.net/event/meadow-acres-angus-bull-sale/
LOCATION:Stanfield\, OR\, Stanfield\, OR\, United States
CATEGORIES:Angus,Bull Sales,Sales
END:VEVENT
BEGIN:VEVENT
DTSTART;TZID=America/Denver:20250213T130000
DTEND;TZID=America/Denver:20250213T160000
DTSTAMP:20260422T083533
CREATED:20241202T201946Z
LAST-MODIFIED:20241209T204314Z
UID:10000225-1739451600-1739462400@www.wlj.net
SUMMARY:Booth's Cherry Creek Angus Bull Sale
DESCRIPTION:
URL:https://www.wlj.net/event/booths-cherry-creek-angus-bull-sale/
LOCATION:Veteran\, WY\, Veteran\, WY\, United States
CATEGORIES:Angus,Bull Sales
END:VEVENT
BEGIN:VEVENT
DTSTART;TZID=America/Denver:20250213T130000
DTEND;TZID=America/Denver:20250213T170000
DTSTAMP:20260422T083533
CREATED:20241210T050055Z
LAST-MODIFIED:20241210T055346Z
UID:10000261-1739451600-1739466000@www.wlj.net
SUMMARY:Lassle Ranch Simmentals
DESCRIPTION:
URL:https://www.wlj.net/event/lassle-ranch-simmentals/
LOCATION:Lassle Ranch Simmental\, 42 Rd 245\, Glendive\, ND\, 59330\, United States
CATEGORIES:Breeds,Bull Sales,Sales,Simangus,Simmental
GEO:46.8995612;-104.9675557
X-APPLE-STRUCTURED-LOCATION;VALUE=URI;X-ADDRESS=Lassle Ranch Simmental 42 Rd 245 Glendive ND 59330 United States;X-APPLE-RADIUS=500;X-TITLE=42 Rd 245:geo:-104.9675557,46.8995612
END:VEVENT
BEGIN:VEVENT
DTSTART;VALUE=DATE:20250214
DTEND;VALUE=DATE:20250215
DTSTAMP:20260422T083533
CREATED:20250423T161155Z
LAST-MODIFIED:20250423T161155Z
UID:10000390-1739491200-1739577599@www.wlj.net
SUMMARY:Raml Cattle Bull & Bred Female Sale
DESCRIPTION:
URL:https://www.wlj.net/event/raml-cattle-bull-bred-female-sale/
LOCATION:Goodwin\, SD\, Goodwin\, SD\, United States
GEO:43.9695148;-99.9018131
END:VEVENT
END:VCALENDAR